| Back to Multiple platform build/check report for BioC 3.12 | 
  | 
This page was generated on 2021-05-06 12:33:18 -0400 (Thu, 06 May 2021).
| 
To the developers/maintainers of the RNAmodR package: Please make sure to use the following settings in order to reproduce any error or warning you see on this page.  | 
| Package 1549/1974 | Hostname | OS / Arch | INSTALL | BUILD | CHECK | BUILD BIN | ||||||||
| RNAmodR 1.4.2  (landing page) Felix G.M. Ernst 
  | malbec1 | Linux (Ubuntu 18.04.5 LTS) / x86_64 | OK | OK | OK | |||||||||
| tokay1 | Windows Server 2012 R2 Standard / x64 | OK | OK | OK | OK | |||||||||
| merida1 | macOS 10.14.6 Mojave / x86_64 | OK | OK | OK | OK | |||||||||
| Package: RNAmodR | 
| Version: 1.4.2 | 
| Command: rm -rf RNAmodR.buildbin-libdir && mkdir RNAmodR.buildbin-libdir && C:\Users\biocbuild\bbs-3.12-bioc\R\bin\R.exe CMD INSTALL --merge-multiarch --build --library=RNAmodR.buildbin-libdir RNAmodR_1.4.2.tar.gz | 
| StartedAt: 2021-05-06 09:58:01 -0400 (Thu, 06 May 2021) | 
| EndedAt: 2021-05-06 10:00:02 -0400 (Thu, 06 May 2021) | 
| EllapsedTime: 121.5 seconds | 
| RetCode: 0 | 
| Status: OK | 
| PackageFile: RNAmodR_1.4.2.zip | 
| PackageFileSize: 2.849 MiB | 
##############################################################################
##############################################################################
###
### Running command:
###
###   rm -rf RNAmodR.buildbin-libdir && mkdir RNAmodR.buildbin-libdir && C:\Users\biocbuild\bbs-3.12-bioc\R\bin\R.exe CMD INSTALL --merge-multiarch --build --library=RNAmodR.buildbin-libdir RNAmodR_1.4.2.tar.gz
###
##############################################################################
##############################################################################
install for i386
* installing *source* package 'RNAmodR' ...
** using staged installation
** R
** data
** inst
** byte-compile and prepare package for lazy loading
** help
*** installing help indices
  converting help for package 'RNAmodR'
    finding HTML links ... done
    CoverageSequenceData-class              html  
    EndSequenceData-class                   html  
    ModInosine-functions                    html  
    ModInosine-internals                    html  
    ModInosine                              html  
    Modifier-class                          html  
    Modifier-functions                      html  
    ModifierSet-class                       html  
    NormEndSequenceData-class               html  
    PileupSequenceData-class                html  
    ProtectedEndSequenceData-class          html  
    RNAmodR-datasets                        html  
    RNAmodR-development                     html  
    RNAmodR-internals                       html  
    RNAmodR                                 html  
    SequenceData-class                      html  
    SequenceData-functions                  html  
    SequenceDataFrame-class                 html  
    SequenceDataList-class                  html  
    SequenceDataSet-class                   html  
    SequenceModDNAStringSetTrack-class      html  
    SequenceModRNAStringSetTrack-class      html  
    aggregate                               html  
    compareByCoord                          html  
    modify                                  html  
    plotData                                html  
    plotROC                                 html  
    settings                                html  
    stats                                   html  
    subsetByCoord                           html  
** building package indices
** installing vignettes
** testing if installed package can be loaded from temporary location
** testing if installed package can be loaded from final location
** testing if installed package keeps a record of temporary installation path
install for x64
* installing *source* package 'RNAmodR' ...
** testing if installed package can be loaded
* MD5 sums
packaged installation of 'RNAmodR' as RNAmodR_1.4.2.zip
* DONE (RNAmodR)