| Back to Multiple platform build/check report for BioC 3.12 |
|
This page was generated on 2021-05-06 12:33:19 -0400 (Thu, 06 May 2021).
|
To the developers/maintainers of the RNAmodR.ML package: Please make sure to use the following settings in order to reproduce any error or warning you see on this page. |
| Package 1551/1974 | Hostname | OS / Arch | INSTALL | BUILD | CHECK | BUILD BIN | ||||||||
| RNAmodR.ML 1.4.0 (landing page) Felix G.M. Ernst
| malbec1 | Linux (Ubuntu 18.04.5 LTS) / x86_64 | OK | OK | OK | |||||||||
| tokay1 | Windows Server 2012 R2 Standard / x64 | OK | OK | OK | OK | |||||||||
| merida1 | macOS 10.14.6 Mojave / x86_64 | OK | OK | OK | OK | |||||||||
| Package: RNAmodR.ML |
| Version: 1.4.0 |
| Command: rm -rf RNAmodR.ML.buildbin-libdir && mkdir RNAmodR.ML.buildbin-libdir && C:\Users\biocbuild\bbs-3.12-bioc\R\bin\R.exe CMD INSTALL --merge-multiarch --build --library=RNAmodR.ML.buildbin-libdir RNAmodR.ML_1.4.0.tar.gz |
| StartedAt: 2021-05-06 09:58:07 -0400 (Thu, 06 May 2021) |
| EndedAt: 2021-05-06 09:59:38 -0400 (Thu, 06 May 2021) |
| EllapsedTime: 91.1 seconds |
| RetCode: 0 |
| Status: OK |
| PackageFile: RNAmodR.ML_1.4.0.zip |
| PackageFileSize: 1.739 MiB |
##############################################################################
##############################################################################
###
### Running command:
###
### rm -rf RNAmodR.ML.buildbin-libdir && mkdir RNAmodR.ML.buildbin-libdir && C:\Users\biocbuild\bbs-3.12-bioc\R\bin\R.exe CMD INSTALL --merge-multiarch --build --library=RNAmodR.ML.buildbin-libdir RNAmodR.ML_1.4.0.tar.gz
###
##############################################################################
##############################################################################
install for i386
* installing *source* package 'RNAmodR.ML' ...
** using staged installation
** R
** data
** inst
** byte-compile and prepare package for lazy loading
** help
*** installing help indices
converting help for package 'RNAmodR.ML'
finding HTML links ... done
ModifierML-class html
ModifierMLModel-class html
ModifierMLkeras-class html
ModifierMLranger-class html
RNAmodR.ML-datasets html
RNAmodR.ML-example html
RNAmodR.ML html
trainingData html
** building package indices
** installing vignettes
** testing if installed package can be loaded from temporary location
** testing if installed package can be loaded from final location
** testing if installed package keeps a record of temporary installation path
install for x64
* installing *source* package 'RNAmodR.ML' ...
** testing if installed package can be loaded
* MD5 sums
packaged installation of 'RNAmodR.ML' as RNAmodR.ML_1.4.0.zip
* DONE (RNAmodR.ML)