| Back to Multiple platform build/check report for BioC 3.12 | 
 | 
This page was generated on 2021-05-06 12:36:32 -0400 (Thu, 06 May 2021).
| To the developers/maintainers of the RNASeqPower package: Please make sure to use the following settings in order to reproduce any error or warning you see on this page. | 
| Package 1557/1974 | Hostname | OS / Arch | INSTALL | BUILD | CHECK | BUILD BIN | ||||||||
| RNASeqPower 1.30.0  (landing page) Terry M Therneau 
 | malbec1 | Linux (Ubuntu 18.04.5 LTS) / x86_64 | OK | OK | OK |  | ||||||||
| tokay1 | Windows Server 2012 R2 Standard / x64 | OK | OK | OK | OK |  | ||||||||
| merida1 | macOS 10.14.6 Mojave / x86_64 | OK | OK | OK | OK |  | ||||||||
| Package: RNASeqPower | 
| Version: 1.30.0 | 
| Command: /Library/Frameworks/R.framework/Versions/Current/Resources/bin/R CMD build --keep-empty-dirs --no-resave-data RNASeqPower | 
| StartedAt: 2021-05-05 21:46:48 -0400 (Wed, 05 May 2021) | 
| EndedAt: 2021-05-05 21:47:00 -0400 (Wed, 05 May 2021) | 
| EllapsedTime: 12.1 seconds | 
| RetCode: 0 | 
| Status: OK | 
| PackageFile: RNASeqPower_1.30.0.tar.gz | 
| PackageFileSize: 142.3 KiB | 
##############################################################################
##############################################################################
###
### Running command:
###
###   /Library/Frameworks/R.framework/Versions/Current/Resources/bin/R CMD build --keep-empty-dirs --no-resave-data RNASeqPower
###
##############################################################################
##############################################################################
* checking for file ‘RNASeqPower/DESCRIPTION’ ... OK
* preparing ‘RNASeqPower’:
* checking DESCRIPTION meta-information ... OK
* installing the package to build vignettes
* creating vignettes ... OK
Warning: ‘inst/doc’ file
    ‘samplesize.Rnw’
  ignored as vignettes have been rebuilt.
  Run R CMD build with --no-build-vignettes to prevent rebuilding.
* checking for LF line-endings in source and make files and shell scripts
* checking for empty or unneeded directories
* building ‘RNASeqPower_1.30.0.tar.gz’