| Back to Multiple platform build/check report for BioC 3.12 | 
  | 
This page was generated on 2021-05-06 12:36:20 -0400 (Thu, 06 May 2021).
| 
To the developers/maintainers of the RDAVIDWebService package: Please make sure to use the following settings in order to reproduce any error or warning you see on this page.  | 
| Package 1477/1974 | Hostname | OS / Arch | INSTALL | BUILD | CHECK | BUILD BIN | ||||||||
| RDAVIDWebService 1.28.0  (landing page) Cristobal Fresno 
  | malbec1 | Linux (Ubuntu 18.04.5 LTS) / x86_64 | OK | OK | WARNINGS | |||||||||
| tokay1 | Windows Server 2012 R2 Standard / x64 | OK | OK | WARNINGS | OK | |||||||||
| merida1 | macOS 10.14.6 Mojave / x86_64 | OK | OK | WARNINGS | OK | |||||||||
| Package: RDAVIDWebService | 
| Version: 1.28.0 | 
| Command: rm -rf RDAVIDWebService.buildbin-libdir && mkdir RDAVIDWebService.buildbin-libdir && /Users/biocbuild/BBS/utils/build-universal.sh RDAVIDWebService_1.28.0.tar.gz /Library/Frameworks/R.framework/Versions/Current/Resources/bin/R RDAVIDWebService.buildbin-libdir | 
| StartedAt: 2021-05-06 09:43:50 -0400 (Thu, 06 May 2021) | 
| EndedAt: 2021-05-06 09:44:37 -0400 (Thu, 06 May 2021) | 
| EllapsedTime: 47.0 seconds | 
| RetCode: 0 | 
| Status: OK | 
| PackageFile: RDAVIDWebService_1.28.0.tgz | 
| PackageFileSize: 21.23 MiB | 
############################################################################## ############################################################################## ### ### Running command: ### ### rm -rf RDAVIDWebService.buildbin-libdir && mkdir RDAVIDWebService.buildbin-libdir && /Users/biocbuild/BBS/utils/build-universal.sh RDAVIDWebService_1.28.0.tar.gz /Library/Frameworks/R.framework/Versions/Current/Resources/bin/R RDAVIDWebService.buildbin-libdir ### ############################################################################## ############################################################################## >>>>>>> >>>>>>> INSTALLATION WITH 'R CMD INSTALL --preclean --no-multiarch --library=RDAVIDWebService.buildbin-libdir RDAVIDWebService_1.28.0.tar.gz' >>>>>>> * installing *source* package ‘RDAVIDWebService’ ... ** using staged installation ** R ** data ** inst ** byte-compile and prepare package for lazy loading ** help *** installing help indices ** building package indices ** installing vignettes ** testing if installed package can be loaded from temporary location ** testing if installed package can be loaded from final location ** testing if installed package keeps a record of temporary installation path * DONE (RDAVIDWebService)