| Back to Multiple platform build/check report for BioC 3.12 |
|
This page was generated on 2021-05-06 12:28:43 -0400 (Thu, 06 May 2021).
|
To the developers/maintainers of the R453Plus1Toolbox package: Please make sure to use the following settings in order to reproduce any error or warning you see on this page. |
| Package 1443/1974 | Hostname | OS / Arch | INSTALL | BUILD | CHECK | BUILD BIN | ||||||||
| R453Plus1Toolbox 1.40.0 (landing page) Hans-Ulrich Klein
| malbec1 | Linux (Ubuntu 18.04.5 LTS) / x86_64 | OK | OK | OK | |||||||||
| tokay1 | Windows Server 2012 R2 Standard / x64 | OK | OK | OK | OK | |||||||||
| merida1 | macOS 10.14.6 Mojave / x86_64 | OK | OK | OK | OK | |||||||||
| Package: R453Plus1Toolbox |
| Version: 1.40.0 |
| Command: /home/biocbuild/bbs-3.12-bioc/R/bin/R CMD INSTALL R453Plus1Toolbox |
| StartedAt: 2021-05-05 16:37:23 -0400 (Wed, 05 May 2021) |
| EndedAt: 2021-05-05 16:38:44 -0400 (Wed, 05 May 2021) |
| EllapsedTime: 80.7 seconds |
| RetCode: 0 |
| Status: OK |
##############################################################################
##############################################################################
###
### Running command:
###
### /home/biocbuild/bbs-3.12-bioc/R/bin/R CMD INSTALL R453Plus1Toolbox
###
##############################################################################
##############################################################################
* installing to library ‘/home/biocbuild/bbs-3.12-bioc/R/library’
* installing *source* package ‘R453Plus1Toolbox’ ...
** using staged installation
** libs
gcc -I"/home/biocbuild/bbs-3.12-bioc/R/include" -DNDEBUG -I/usr/local/include -fpic -g -O2 -Wall -c readSFF.c -o readSFF.o
readSFF.c: In function ‘readSFF’:
readSFF.c:27:7: warning: variable ‘block_count’ set but not used [-Wunused-but-set-variable]
int block_count;
^~~~~~~~~~~
gcc -I"/home/biocbuild/bbs-3.12-bioc/R/include" -DNDEBUG -I/usr/local/include -fpic -g -O2 -Wall -c writeSFF.c -o writeSFF.o
gcc -shared -L/home/biocbuild/bbs-3.12-bioc/R/lib -L/usr/local/lib -o R453Plus1Toolbox.so readSFF.o writeSFF.o -L/home/biocbuild/bbs-3.12-bioc/R/lib -lR
installing to /home/biocbuild/bbs-3.12-bioc/R/library/00LOCK-R453Plus1Toolbox/00new/R453Plus1Toolbox/libs
** R
** data
** inst
** byte-compile and prepare package for lazy loading
** help
*** installing help indices
** building package indices
** installing vignettes
** testing if installed package can be loaded from temporary location
** checking absolute paths in shared objects and dynamic libraries
** testing if installed package can be loaded from final location
** testing if installed package keeps a record of temporary installation path
* DONE (R453Plus1Toolbox)