| Back to Multiple platform build/check report for BioC 3.12 |
|
This page was generated on 2021-05-06 12:36:17 -0400 (Thu, 06 May 2021).
|
To the developers/maintainers of the R3CPET package: Please make sure to use the following settings in order to reproduce any error or warning you see on this page. |
| Package 1441/1974 | Hostname | OS / Arch | INSTALL | BUILD | CHECK | BUILD BIN | ||||||||
| R3CPET 1.22.0 (landing page) Mohamed Nadhir Djekidel
| malbec1 | Linux (Ubuntu 18.04.5 LTS) / x86_64 | OK | OK | OK | |||||||||
| tokay1 | Windows Server 2012 R2 Standard / x64 | OK | OK | OK | OK | |||||||||
| merida1 | macOS 10.14.6 Mojave / x86_64 | OK | OK | OK | OK | |||||||||
| Package: R3CPET |
| Version: 1.22.0 |
| Command: /Library/Frameworks/R.framework/Versions/Current/Resources/bin/R CMD build --keep-empty-dirs --no-resave-data R3CPET |
| StartedAt: 2021-05-05 21:31:11 -0400 (Wed, 05 May 2021) |
| EndedAt: 2021-05-05 21:33:24 -0400 (Wed, 05 May 2021) |
| EllapsedTime: 133.2 seconds |
| RetCode: 0 |
| Status: OK |
| PackageFile: R3CPET_1.22.0.tar.gz |
| PackageFileSize: 5.077 MiB |
##############################################################################
##############################################################################
###
### Running command:
###
### /Library/Frameworks/R.framework/Versions/Current/Resources/bin/R CMD build --keep-empty-dirs --no-resave-data R3CPET
###
##############################################################################
##############################################################################
* checking for file ‘R3CPET/DESCRIPTION’ ... OK
* preparing ‘R3CPET’:
* checking DESCRIPTION meta-information ... OK
* cleaning src
* installing the package to build vignettes
* creating vignettes ... OK
Warning: ‘inst/doc’ files
‘R3CPET.Rnw’, ‘R3CPET.pdf’, ‘R3CPET.R’
ignored as vignettes have been rebuilt.
Run R CMD build with --no-build-vignettes to prevent rebuilding.
* cleaning src
* checking for LF line-endings in source and make files and shell scripts
* checking for empty or unneeded directories
* looking to see if a ‘data/datalist’ file should be added
* building ‘R3CPET_1.22.0.tar.gz’