| Back to Multiple platform build/check report for BioC 3.12 |
|
This page was generated on 2021-05-06 12:36:16 -0400 (Thu, 06 May 2021).
|
To the developers/maintainers of the QuartPAC package: Please make sure to use the following settings in order to reproduce any error or warning you see on this page. |
| Package 1435/1974 | Hostname | OS / Arch | INSTALL | BUILD | CHECK | BUILD BIN | ||||||||
| QuartPAC 1.22.0 (landing page) Gregory Ryslik
| malbec1 | Linux (Ubuntu 18.04.5 LTS) / x86_64 | OK | OK | OK | |||||||||
| tokay1 | Windows Server 2012 R2 Standard / x64 | OK | OK | ERROR | OK | |||||||||
| merida1 | macOS 10.14.6 Mojave / x86_64 | OK | OK | ERROR | OK | |||||||||
| Package: QuartPAC |
| Version: 1.22.0 |
| Command: /Library/Frameworks/R.framework/Versions/Current/Resources/bin/R CMD build --keep-empty-dirs --no-resave-data QuartPAC |
| StartedAt: 2021-05-05 21:30:18 -0400 (Wed, 05 May 2021) |
| EndedAt: 2021-05-05 21:31:41 -0400 (Wed, 05 May 2021) |
| EllapsedTime: 83.8 seconds |
| RetCode: 0 |
| Status: OK |
| PackageFile: QuartPAC_1.22.0.tar.gz |
| PackageFileSize: 792.5 KiB |
############################################################################## ############################################################################## ### ### Running command: ### ### /Library/Frameworks/R.framework/Versions/Current/Resources/bin/R CMD build --keep-empty-dirs --no-resave-data QuartPAC ### ############################################################################## ############################################################################## * checking for file ‘QuartPAC/DESCRIPTION’ ... OK * preparing ‘QuartPAC’: * checking DESCRIPTION meta-information ... OK * installing the package to build vignettes * creating vignettes ... OK * checking for LF line-endings in source and make files and shell scripts * checking for empty or unneeded directories * building ‘QuartPAC_1.22.0.tar.gz’