| Back to Multiple platform build/check report for BioC 3.12 |
|
This page was generated on 2021-05-06 12:32:51 -0400 (Thu, 06 May 2021).
|
To the developers/maintainers of the ProteomicsAnnotationHubData package: Please make sure to use the following settings in order to reproduce any error or warning you see on this page. |
| Package 1404/1974 | Hostname | OS / Arch | INSTALL | BUILD | CHECK | BUILD BIN | ||||||||
| ProteomicsAnnotationHubData 1.20.0 (landing page) Laurent Gatto
| malbec1 | Linux (Ubuntu 18.04.5 LTS) / x86_64 | OK | OK | OK | |||||||||
| tokay1 | Windows Server 2012 R2 Standard / x64 | OK | OK | OK | OK | |||||||||
| merida1 | macOS 10.14.6 Mojave / x86_64 | OK | OK | OK | OK | |||||||||
| Package: ProteomicsAnnotationHubData |
| Version: 1.20.0 |
| Command: C:\cygwin\bin\curl.exe -O http://172.29.0.3/BBS/3.12/bioc/src/contrib/ProteomicsAnnotationHubData_1.20.0.tar.gz && rm -rf ProteomicsAnnotationHubData.buildbin-libdir && mkdir ProteomicsAnnotationHubData.buildbin-libdir && C:\Users\biocbuild\bbs-3.12-bioc\R\bin\R.exe CMD INSTALL --merge-multiarch --build --library=ProteomicsAnnotationHubData.buildbin-libdir ProteomicsAnnotationHubData_1.20.0.tar.gz && C:\Users\biocbuild\bbs-3.12-bioc\R\bin\R.exe CMD INSTALL ProteomicsAnnotationHubData_1.20.0.zip && rm ProteomicsAnnotationHubData_1.20.0.tar.gz ProteomicsAnnotationHubData_1.20.0.zip |
| StartedAt: 2021-05-05 18:02:57 -0400 (Wed, 05 May 2021) |
| EndedAt: 2021-05-05 18:04:21 -0400 (Wed, 05 May 2021) |
| EllapsedTime: 83.4 seconds |
| RetCode: 0 |
| Status: OK |
##############################################################################
##############################################################################
###
### Running command:
###
### C:\cygwin\bin\curl.exe -O http://172.29.0.3/BBS/3.12/bioc/src/contrib/ProteomicsAnnotationHubData_1.20.0.tar.gz && rm -rf ProteomicsAnnotationHubData.buildbin-libdir && mkdir ProteomicsAnnotationHubData.buildbin-libdir && C:\Users\biocbuild\bbs-3.12-bioc\R\bin\R.exe CMD INSTALL --merge-multiarch --build --library=ProteomicsAnnotationHubData.buildbin-libdir ProteomicsAnnotationHubData_1.20.0.tar.gz && C:\Users\biocbuild\bbs-3.12-bioc\R\bin\R.exe CMD INSTALL ProteomicsAnnotationHubData_1.20.0.zip && rm ProteomicsAnnotationHubData_1.20.0.tar.gz ProteomicsAnnotationHubData_1.20.0.zip
###
##############################################################################
##############################################################################
% Total % Received % Xferd Average Speed Time Time Time Current
Dload Upload Total Spent Left Speed
0 0 0 0 0 0 0 0 --:--:-- --:--:-- --:--:-- 0
100 20691 100 20691 0 0 927k 0 --:--:-- --:--:-- --:--:-- 962k
install for i386
* installing *source* package 'ProteomicsAnnotationHubData' ...
** using staged installation
** R
** inst
** byte-compile and prepare package for lazy loading
** help
*** installing help indices
converting help for package 'ProteomicsAnnotationHubData'
finding HTML links ... done
PAHD-class html
PAHD html
ProteomicsAnnotationHubData html
identicalRemLoc html
makeAnnotationHubMetadata html
readPahdFiles html
writePahdTemplate html
** building package indices
** installing vignettes
** testing if installed package can be loaded from temporary location
** testing if installed package can be loaded from final location
** testing if installed package keeps a record of temporary installation path
install for x64
* installing *source* package 'ProteomicsAnnotationHubData' ...
** testing if installed package can be loaded
* MD5 sums
packaged installation of 'ProteomicsAnnotationHubData' as ProteomicsAnnotationHubData_1.20.0.zip
* DONE (ProteomicsAnnotationHubData)
* installing to library 'C:/Users/biocbuild/bbs-3.12-bioc/R/library'
package 'ProteomicsAnnotationHubData' successfully unpacked and MD5 sums checked