| Back to Multiple platform build/check report for BioC 3.12 | 
 | 
This page was generated on 2021-05-06 12:28:36 -0400 (Thu, 06 May 2021).
| To the developers/maintainers of the PhyloProfile package: Please make sure to use the following settings in order to reproduce any error or warning you see on this page. | 
| Package 1343/1974 | Hostname | OS / Arch | INSTALL | BUILD | CHECK | BUILD BIN | ||||||||
| PhyloProfile 1.4.11  (landing page) Vinh Tran 
 | malbec1 | Linux (Ubuntu 18.04.5 LTS) / x86_64 | OK | OK | OK |  | ||||||||
| tokay1 | Windows Server 2012 R2 Standard / x64 | OK | OK | OK | OK |  | ||||||||
| merida1 | macOS 10.14.6 Mojave / x86_64 | OK | OK | OK | OK |  | ||||||||
| Package: PhyloProfile | 
| Version: 1.4.11 | 
| Command: /home/biocbuild/bbs-3.12-bioc/R/bin/R CMD build --keep-empty-dirs --no-resave-data PhyloProfile | 
| StartedAt: 2021-05-05 20:58:06 -0400 (Wed, 05 May 2021) | 
| EndedAt: 2021-05-05 20:58:50 -0400 (Wed, 05 May 2021) | 
| EllapsedTime: 44.4 seconds | 
| RetCode: 0 | 
| Status: OK | 
| PackageFile: PhyloProfile_1.4.11.tar.gz | 
| PackageFileSize: 1.221 MiB | 
############################################################################## ############################################################################## ### ### Running command: ### ### /home/biocbuild/bbs-3.12-bioc/R/bin/R CMD build --keep-empty-dirs --no-resave-data PhyloProfile ### ############################################################################## ############################################################################## * checking for file ‘PhyloProfile/DESCRIPTION’ ... OK * preparing ‘PhyloProfile’: * checking DESCRIPTION meta-information ... OK * installing the package to build vignettes * creating vignettes ... OK * checking for LF line-endings in source and make files and shell scripts * checking for empty or unneeded directories * looking to see if a ‘data/datalist’ file should be added * building ‘PhyloProfile_1.4.11.tar.gz’