| Back to Multiple platform build/check report for BioC 3.12 |
|
This page was generated on 2021-05-06 12:28:41 -0400 (Thu, 06 May 2021).
|
To the developers/maintainers of the PSICQUIC package: Please make sure to use the following settings in order to reproduce any error or warning you see on this page. |
| Package 1409/1974 | Hostname | OS / Arch | INSTALL | BUILD | CHECK | BUILD BIN | ||||||||
| PSICQUIC 1.28.0 (landing page) Paul Shannon
| malbec1 | Linux (Ubuntu 18.04.5 LTS) / x86_64 | OK | OK | WARNINGS | |||||||||
| tokay1 | Windows Server 2012 R2 Standard / x64 | OK | OK | WARNINGS | OK | |||||||||
| merida1 | macOS 10.14.6 Mojave / x86_64 | OK | OK | WARNINGS | OK | |||||||||
| Package: PSICQUIC |
| Version: 1.28.0 |
| Command: /home/biocbuild/bbs-3.12-bioc/R/bin/R CMD build --keep-empty-dirs --no-resave-data PSICQUIC |
| StartedAt: 2021-05-05 21:08:18 -0400 (Wed, 05 May 2021) |
| EndedAt: 2021-05-05 21:10:18 -0400 (Wed, 05 May 2021) |
| EllapsedTime: 119.7 seconds |
| RetCode: 0 |
| Status: OK |
| PackageFile: PSICQUIC_1.28.0.tar.gz |
| PackageFileSize: 216.3 KiB |
############################################################################## ############################################################################## ### ### Running command: ### ### /home/biocbuild/bbs-3.12-bioc/R/bin/R CMD build --keep-empty-dirs --no-resave-data PSICQUIC ### ############################################################################## ############################################################################## * checking for file ‘PSICQUIC/DESCRIPTION’ ... OK * preparing ‘PSICQUIC’: * checking DESCRIPTION meta-information ... OK * installing the package to build vignettes * creating vignettes ... OK * checking for LF line-endings in source and make files and shell scripts * checking for empty or unneeded directories * building ‘PSICQUIC_1.28.0.tar.gz’