| Back to Multiple platform build/check report for BioC 3.12 |
|
This page was generated on 2021-05-06 12:28:39 -0400 (Thu, 06 May 2021).
|
To the developers/maintainers of the PREDA package: Please make sure to use the following settings in order to reproduce any error or warning you see on this page. |
| Package 1380/1974 | Hostname | OS / Arch | INSTALL | BUILD | CHECK | BUILD BIN | ||||||||
| PREDA 1.36.0 (landing page) Francesco Ferrari
| malbec1 | Linux (Ubuntu 18.04.5 LTS) / x86_64 | OK | OK | WARNINGS | |||||||||
| tokay1 | Windows Server 2012 R2 Standard / x64 | OK | OK | WARNINGS | OK | |||||||||
| merida1 | macOS 10.14.6 Mojave / x86_64 | OK | OK | WARNINGS | OK | |||||||||
| Package: PREDA |
| Version: 1.36.0 |
| Command: /home/biocbuild/bbs-3.12-bioc/R/bin/R CMD build --keep-empty-dirs --no-resave-data PREDA |
| StartedAt: 2021-05-05 21:04:18 -0400 (Wed, 05 May 2021) |
| EndedAt: 2021-05-05 21:06:27 -0400 (Wed, 05 May 2021) |
| EllapsedTime: 129.4 seconds |
| RetCode: 0 |
| Status: OK |
| PackageFile: PREDA_1.36.0.tar.gz |
| PackageFileSize: 1.886 MiB |
##############################################################################
##############################################################################
###
### Running command:
###
### /home/biocbuild/bbs-3.12-bioc/R/bin/R CMD build --keep-empty-dirs --no-resave-data PREDA
###
##############################################################################
##############################################################################
* checking for file ‘PREDA/DESCRIPTION’ ... OK
* preparing ‘PREDA’:
* checking DESCRIPTION meta-information ... OK
* installing the package to build vignettes
* creating vignettes ... OK
Warning: ‘inst/doc’ files
‘PREDAclasses.pdf’, ‘PREDAtutorial.pdf’
ignored as vignettes have been rebuilt.
Run R CMD build with --no-build-vignettes to prevent rebuilding.
* checking for LF line-endings in source and make files and shell scripts
* checking for empty or unneeded directories
* building ‘PREDA_1.36.0.tar.gz’