| Back to Multiple platform build/check report for BioC 3.12 |
|
This page was generated on 2021-05-06 12:28:38 -0400 (Thu, 06 May 2021).
|
To the developers/maintainers of the PPInfer package: Please make sure to use the following settings in order to reproduce any error or warning you see on this page. |
| Package 1372/1974 | Hostname | OS / Arch | INSTALL | BUILD | CHECK | BUILD BIN | ||||||||
| PPInfer 1.16.0 (landing page) Dongmin Jung
| malbec1 | Linux (Ubuntu 18.04.5 LTS) / x86_64 | OK | OK | OK | |||||||||
| tokay1 | Windows Server 2012 R2 Standard / x64 | OK | OK | OK | OK | |||||||||
| merida1 | macOS 10.14.6 Mojave / x86_64 | OK | OK | ERROR | OK | |||||||||
| Package: PPInfer |
| Version: 1.16.0 |
| Command: /home/biocbuild/bbs-3.12-bioc/R/bin/R CMD build --keep-empty-dirs --no-resave-data PPInfer |
| StartedAt: 2021-05-05 21:03:17 -0400 (Wed, 05 May 2021) |
| EndedAt: 2021-05-05 21:04:26 -0400 (Wed, 05 May 2021) |
| EllapsedTime: 69.5 seconds |
| RetCode: 0 |
| Status: OK |
| PackageFile: PPInfer_1.16.0.tar.gz |
| PackageFileSize: 244.5 KiB |
##############################################################################
##############################################################################
###
### Running command:
###
### /home/biocbuild/bbs-3.12-bioc/R/bin/R CMD build --keep-empty-dirs --no-resave-data PPInfer
###
##############################################################################
##############################################################################
* checking for file ‘PPInfer/DESCRIPTION’ ... OK
* preparing ‘PPInfer’:
* checking DESCRIPTION meta-information ... OK
* installing the package to process help pages
* saving partial Rd database
* creating vignettes ... OK
Warning: ‘inst/doc’ file
‘PPInfer.pdf’
ignored as vignettes have been rebuilt.
Run R CMD build with --no-build-vignettes to prevent rebuilding.
* checking for LF line-endings in source and make files and shell scripts
* checking for empty or unneeded directories
* building ‘PPInfer_1.16.0.tar.gz’