| Back to Multiple platform build/check report for BioC 3.12 | 
 | 
This page was generated on 2021-05-06 12:28:35 -0400 (Thu, 06 May 2021).
| To the developers/maintainers of the PGA package: Please make sure to use the following settings in order to reproduce any error or warning you see on this page. | 
| Package 1331/1974 | Hostname | OS / Arch | INSTALL | BUILD | CHECK | BUILD BIN | ||||||||
| Bo Wen 
 | malbec1 | Linux (Ubuntu 18.04.5 LTS) / x86_64 | OK | OK | WARNINGS |  | ||||||||
| tokay1 | Windows Server 2012 R2 Standard / x64 | OK | OK | WARNINGS | OK |  | ||||||||
| merida1 | macOS 10.14.6 Mojave / x86_64 | ERROR | ERROR | skipped | skipped | |||||||||
| Package: PGA | 
| Version: 1.20.0 | 
| Command: /home/biocbuild/bbs-3.12-bioc/R/bin/R CMD build --keep-empty-dirs --no-resave-data PGA | 
| StartedAt: 2021-05-05 20:54:13 -0400 (Wed, 05 May 2021) | 
| EndedAt: 2021-05-05 20:57:11 -0400 (Wed, 05 May 2021) | 
| EllapsedTime: 178.1 seconds | 
| RetCode: 0 | 
| Status: OK | 
| PackageFile: PGA_1.20.0.tar.gz | 
| PackageFileSize: 3.951 MiB | 
##############################################################################
##############################################################################
###
### Running command:
###
###   /home/biocbuild/bbs-3.12-bioc/R/bin/R CMD build --keep-empty-dirs --no-resave-data PGA
###
##############################################################################
##############################################################################
* checking for file ‘PGA/DESCRIPTION’ ... OK
* preparing ‘PGA’:
* checking DESCRIPTION meta-information ... OK
* installing the package to build vignettes
* creating vignettes ... OK
Warning: ‘inst/doc’ files
    ‘PGA.Rnw’, ‘PGA.pdf’, ‘PGA.R’
  ignored as vignettes have been rebuilt.
  Run R CMD build with --no-build-vignettes to prevent rebuilding.
* checking for LF line-endings in source and make files and shell scripts
* checking for empty or unneeded directories
* building ‘PGA_1.20.0.tar.gz’