| Back to Multiple platform build/check report for BioC 3.12 |
|
This page was generated on 2021-05-06 12:36:05 -0400 (Thu, 06 May 2021).
|
To the developers/maintainers of the PCpheno package: Please make sure to use the following settings in order to reproduce any error or warning you see on this page. |
| Package 1318/1974 | Hostname | OS / Arch | INSTALL | BUILD | CHECK | BUILD BIN | ||||||||
| PCpheno 1.52.0 (landing page) Nolwenn Le Meur
| malbec1 | Linux (Ubuntu 18.04.5 LTS) / x86_64 | OK | OK | OK | |||||||||
| tokay1 | Windows Server 2012 R2 Standard / x64 | OK | OK | OK | OK | |||||||||
| merida1 | macOS 10.14.6 Mojave / x86_64 | OK | OK | OK | OK | |||||||||
| Package: PCpheno |
| Version: 1.52.0 |
| Command: rm -rf PCpheno.buildbin-libdir && mkdir PCpheno.buildbin-libdir && /Users/biocbuild/BBS/utils/build-universal.sh PCpheno_1.52.0.tar.gz /Library/Frameworks/R.framework/Versions/Current/Resources/bin/R PCpheno.buildbin-libdir |
| StartedAt: 2021-05-06 09:31:44 -0400 (Thu, 06 May 2021) |
| EndedAt: 2021-05-06 09:32:43 -0400 (Thu, 06 May 2021) |
| EllapsedTime: 58.6 seconds |
| RetCode: 0 |
| Status: OK |
| PackageFile: PCpheno_1.52.0.tgz |
| PackageFileSize: 1.119 MiB |
############################################################################## ############################################################################## ### ### Running command: ### ### rm -rf PCpheno.buildbin-libdir && mkdir PCpheno.buildbin-libdir && /Users/biocbuild/BBS/utils/build-universal.sh PCpheno_1.52.0.tar.gz /Library/Frameworks/R.framework/Versions/Current/Resources/bin/R PCpheno.buildbin-libdir ### ############################################################################## ############################################################################## >>>>>>> >>>>>>> INSTALLATION WITH 'R CMD INSTALL --preclean --no-multiarch --library=PCpheno.buildbin-libdir PCpheno_1.52.0.tar.gz' >>>>>>> * installing *source* package ‘PCpheno’ ... ** using staged installation ** R ** data ** inst ** byte-compile and prepare package for lazy loading No methods found in package ‘Biobase’ for request: ‘listlen’ when loading ‘RpsiXML’ No methods found in package ‘annotate’ for requests: ‘pubmed’, ‘buildPubMedAbst’ when loading ‘RpsiXML’ No methods found in package ‘BiocGenerics’ for request: ‘plot’ when loading ‘SLGI’ ** help *** installing help indices ** building package indices ** installing vignettes ** testing if installed package can be loaded from temporary location No methods found in package ‘Biobase’ for request: ‘listlen’ when loading ‘RpsiXML’ No methods found in package ‘annotate’ for requests: ‘pubmed’, ‘buildPubMedAbst’ when loading ‘RpsiXML’ No methods found in package ‘BiocGenerics’ for request: ‘plot’ when loading ‘SLGI’ ** testing if installed package can be loaded from final location No methods found in package ‘Biobase’ for request: ‘listlen’ when loading ‘RpsiXML’ No methods found in package ‘annotate’ for requests: ‘pubmed’, ‘buildPubMedAbst’ when loading ‘RpsiXML’ No methods found in package ‘BiocGenerics’ for request: ‘plot’ when loading ‘SLGI’ ** testing if installed package keeps a record of temporary installation path * DONE (PCpheno)