| Back to Multiple platform build/check report for BioC 3.12 |
|
This page was generated on 2021-05-06 12:36:05 -0400 (Thu, 06 May 2021).
|
To the developers/maintainers of the PCAN package: Please make sure to use the following settings in order to reproduce any error or warning you see on this page. |
| Package 1315/1974 | Hostname | OS / Arch | INSTALL | BUILD | CHECK | BUILD BIN | ||||||||
| PCAN 1.18.0 (landing page) Matthew Page
| malbec1 | Linux (Ubuntu 18.04.5 LTS) / x86_64 | OK | OK | OK | |||||||||
| tokay1 | Windows Server 2012 R2 Standard / x64 | OK | OK | TIMEOUT | OK | |||||||||
| merida1 | macOS 10.14.6 Mojave / x86_64 | OK | OK | OK | OK | |||||||||
| Package: PCAN |
| Version: 1.18.0 |
| Command: rm -rf PCAN.buildbin-libdir && mkdir PCAN.buildbin-libdir && /Users/biocbuild/BBS/utils/build-universal.sh PCAN_1.18.0.tar.gz /Library/Frameworks/R.framework/Versions/Current/Resources/bin/R PCAN.buildbin-libdir |
| StartedAt: 2021-05-06 09:31:31 -0400 (Thu, 06 May 2021) |
| EndedAt: 2021-05-06 09:32:29 -0400 (Thu, 06 May 2021) |
| EllapsedTime: 58.1 seconds |
| RetCode: 0 |
| Status: OK |
| PackageFile: PCAN_1.18.0.tgz |
| PackageFileSize: 2.478 MiB |
############################################################################## ############################################################################## ### ### Running command: ### ### rm -rf PCAN.buildbin-libdir && mkdir PCAN.buildbin-libdir && /Users/biocbuild/BBS/utils/build-universal.sh PCAN_1.18.0.tar.gz /Library/Frameworks/R.framework/Versions/Current/Resources/bin/R PCAN.buildbin-libdir ### ############################################################################## ############################################################################## >>>>>>> >>>>>>> INSTALLATION WITH 'R CMD INSTALL --preclean --no-multiarch --library=PCAN.buildbin-libdir PCAN_1.18.0.tar.gz' >>>>>>> * installing *source* package ‘PCAN’ ... ** using staged installation ** R ** data ** inst ** byte-compile and prepare package for lazy loading ** help *** installing help indices ** building package indices ** installing vignettes ** testing if installed package can be loaded from temporary location ** testing if installed package can be loaded from final location ** testing if installed package keeps a record of temporary installation path * DONE (PCAN)