| Back to Multiple platform build/check report for BioC 3.12 |
|
This page was generated on 2021-05-06 12:32:38 -0400 (Thu, 06 May 2021).
|
To the developers/maintainers of the OpenStats package: Please make sure to use the following settings in order to reproduce any error or warning you see on this page. |
| Package 1271/1974 | Hostname | OS / Arch | INSTALL | BUILD | CHECK | BUILD BIN | ||||||||
| OpenStats 1.2.0 (landing page) Hamed Haseli Mashhadi
| malbec1 | Linux (Ubuntu 18.04.5 LTS) / x86_64 | OK | OK | OK | |||||||||
| tokay1 | Windows Server 2012 R2 Standard / x64 | OK | OK | OK | OK | |||||||||
| merida1 | macOS 10.14.6 Mojave / x86_64 | OK | OK | OK | OK | |||||||||
| Package: OpenStats |
| Version: 1.2.0 |
| Command: rm -rf OpenStats.buildbin-libdir && mkdir OpenStats.buildbin-libdir && C:\Users\biocbuild\bbs-3.12-bioc\R\bin\R.exe CMD INSTALL --merge-multiarch --build --library=OpenStats.buildbin-libdir OpenStats_1.2.0.tar.gz |
| StartedAt: 2021-05-06 09:41:33 -0400 (Thu, 06 May 2021) |
| EndedAt: 2021-05-06 09:42:09 -0400 (Thu, 06 May 2021) |
| EllapsedTime: 36.5 seconds |
| RetCode: 0 |
| Status: OK |
| PackageFile: OpenStats_1.2.0.zip |
| PackageFileSize: 704.2 KiB |
##############################################################################
##############################################################################
###
### Running command:
###
### rm -rf OpenStats.buildbin-libdir && mkdir OpenStats.buildbin-libdir && C:\Users\biocbuild\bbs-3.12-bioc\R\bin\R.exe CMD INSTALL --merge-multiarch --build --library=OpenStats.buildbin-libdir OpenStats_1.2.0.tar.gz
###
##############################################################################
##############################################################################
install for i386
* installing *source* package 'OpenStats' ...
** using staged installation
** R
** inst
** byte-compile and prepare package for lazy loading
** help
*** installing help indices
converting help for package 'OpenStats'
finding HTML links ... done
OpenStatsAnalysis html
OpenStatsBuilder html
OpenStatsComplementarySplit html
OpenStatsList html
OpenStatsReport html
plot.OpenStats html
plot.OpenStatsComplementarySplit html
plot.OpenStatsFE html
plot.OpenStatsMM html
plot.OpenStatsRR html
print.OpenStats html
print.OpenStatsComplementarySplit html
print.OpenStatsFE html
print.OpenStatsMM html
print.OpenStatsRR html
summary.OpenStats html
summary.OpenStatsComplementarySplit html
summary.OpenStatsFE html
summary.OpenStatsMM html
summary.OpenStatsRR html
** building package indices
** installing vignettes
** testing if installed package can be loaded from temporary location
** testing if installed package can be loaded from final location
** testing if installed package keeps a record of temporary installation path
install for x64
* installing *source* package 'OpenStats' ...
** testing if installed package can be loaded
* MD5 sums
packaged installation of 'OpenStats' as OpenStats_1.2.0.zip
* DONE (OpenStats)