| Back to Multiple platform build/check report for BioC 3.12 | 
 | 
This page was generated on 2021-05-06 12:36:02 -0400 (Thu, 06 May 2021).
| To the developers/maintainers of the OSAT package: Please make sure to use the following settings in order to reproduce any error or warning you see on this page. | 
| Package 1281/1974 | Hostname | OS / Arch | INSTALL | BUILD | CHECK | BUILD BIN | ||||||||
| OSAT 1.38.0  (landing page) Li Yan 
 | malbec1 | Linux (Ubuntu 18.04.5 LTS) / x86_64 | OK | OK | OK |  | ||||||||
| tokay1 | Windows Server 2012 R2 Standard / x64 | OK | OK | OK | OK |  | ||||||||
| merida1 | macOS 10.14.6 Mojave / x86_64 | OK | OK | OK | OK |  | ||||||||
| Package: OSAT | 
| Version: 1.38.0 | 
| Command: /Library/Frameworks/R.framework/Versions/Current/Resources/bin/R CMD check --install=check:OSAT.install-out.txt --library=/Library/Frameworks/R.framework/Versions/Current/Resources/library --no-vignettes --timings OSAT_1.38.0.tar.gz | 
| StartedAt: 2021-05-06 04:26:54 -0400 (Thu, 06 May 2021) | 
| EndedAt: 2021-05-06 04:27:33 -0400 (Thu, 06 May 2021) | 
| EllapsedTime: 39.4 seconds | 
| RetCode: 0 | 
| Status: OK | 
| CheckDir: OSAT.Rcheck | 
| Warnings: 0 | 
##############################################################################
##############################################################################
###
### Running command:
###
###   /Library/Frameworks/R.framework/Versions/Current/Resources/bin/R CMD check --install=check:OSAT.install-out.txt --library=/Library/Frameworks/R.framework/Versions/Current/Resources/library --no-vignettes --timings OSAT_1.38.0.tar.gz
###
##############################################################################
##############################################################################
* using log directory ‘/Users/biocbuild/bbs-3.12-bioc/meat/OSAT.Rcheck’
* using R version 4.0.5 (2021-03-31)
* using platform: x86_64-apple-darwin17.0 (64-bit)
* using session charset: UTF-8
* using option ‘--no-vignettes’
* checking for file ‘OSAT/DESCRIPTION’ ... OK
* checking extension type ... Package
* this is package ‘OSAT’ version ‘1.38.0’
* checking package namespace information ... OK
* checking package dependencies ... OK
* checking if this is a source package ... OK
* checking if there is a namespace ... OK
* checking for hidden files and directories ... OK
* checking for portable file names ... OK
* checking for sufficient/correct file permissions ... OK
* checking whether package ‘OSAT’ can be installed ... OK
* checking installed package size ... OK
* checking package directory ... OK
* checking ‘build’ directory ... OK
* checking DESCRIPTION meta-information ... OK
* checking top-level files ... OK
* checking for left-over files ... OK
* checking index information ... OK
* checking package subdirectories ... OK
* checking R files for non-ASCII characters ... OK
* checking R files for syntax errors ... OK
* checking whether the package can be loaded ... OK
* checking whether the package can be loaded with stated dependencies ... OK
* checking whether the package can be unloaded cleanly ... OK
* checking whether the namespace can be loaded with stated dependencies ... OK
* checking whether the namespace can be unloaded cleanly ... OK
* checking dependencies in R code ... OK
* checking S3 generic/method consistency ... OK
* checking replacement functions ... OK
* checking foreign function calls ... OK
* checking R code for possible problems ... NOTE
assign.sample.to.container: no visible global function definition for
  ‘head’
barplot.gExperimentSetup: no visible global function definition for
  ‘layout’
barplot.gExperimentSetup: no visible global function definition for
  ‘barplot’
barplot.gExperimentSetup: no visible global function definition for
  ‘gray’
barplot.gExperimentSetup: no visible global function definition for
  ‘points’
barplot.gExperimentSetup: no visible global function definition for
  ‘mtext’
multi.barplot: no visible global function definition for ‘layout’
multi.barplot: no visible global function definition for ‘barplot’
multi.barplot: no visible global function definition for ‘gray’
multi.barplot: no visible global function definition for ‘mtext’
show,gAssembly: no visible global function definition for ‘head’
show,gAssembly: no visible global function definition for ‘tail’
show,gContainer: no visible global function definition for ‘head’
show,gContainer: no visible global function definition for ‘tail’
show,gExperimentSetup: no visible global function definition for ‘head’
show,gExperimentSetup: no visible global function definition for ‘tail’
show,gPlate: no visible global function definition for ‘head’
show,gPlate: no visible global function definition for ‘tail’
show,gSample: no visible global function definition for ‘head’
show,gSample: no visible global function definition for ‘tail’
Undefined global functions or variables:
  barplot gray head layout mtext points tail
Consider adding
  importFrom("grDevices", "gray")
  importFrom("graphics", "barplot", "layout", "mtext", "points")
  importFrom("utils", "head", "tail")
to your NAMESPACE file.
* checking Rd files ... OK
* checking Rd metadata ... OK
* checking Rd cross-references ... OK
* checking for missing documentation entries ... OK
* checking for code/documentation mismatches ... OK
* checking Rd \usage sections ... OK
* checking Rd contents ... OK
* checking for unstated dependencies in examples ... OK
* checking contents of ‘data’ directory ... OK
* checking data for non-ASCII characters ... OK
* checking data for ASCII and uncompressed saves ... OK
* checking sizes of PDF files under ‘inst/doc’ ... OK
* checking files in ‘vignettes’ ... OK
* checking examples ... OK
* checking for unstated dependencies in vignettes ... OK
* checking package vignettes in ‘inst/doc’ ... OK
* checking running R code from vignettes ... SKIPPED
* checking re-building of vignette outputs ... SKIPPED
* checking PDF version of manual ... OK
* DONE
Status: 1 NOTE
See
  ‘/Users/biocbuild/bbs-3.12-bioc/meat/OSAT.Rcheck/00check.log’
for details.
OSAT.Rcheck/00install.out
############################################################################## ############################################################################## ### ### Running command: ### ### /Library/Frameworks/R.framework/Versions/Current/Resources/bin/R CMD INSTALL OSAT ### ############################################################################## ############################################################################## * installing to library ‘/Library/Frameworks/R.framework/Versions/4.0/Resources/library’ * installing *source* package ‘OSAT’ ... ** using staged installation ** R ** data ** inst ** byte-compile and prepare package for lazy loading ** help *** installing help indices ** building package indices ** installing vignettes ** testing if installed package can be loaded from temporary location ** testing if installed package can be loaded from final location ** testing if installed package keeps a record of temporary installation path * DONE (OSAT)
OSAT.Rcheck/OSAT-Ex.timings
| name | user | system | elapsed | |
| BeadChip-class | 0.014 | 0.002 | 0.016 | |
| BeadPlate-class | 0.008 | 0.001 | 0.009 | |
| MSAroboticPlate-class | 0.377 | 0.019 | 0.397 | |
| QC | 1.572 | 0.031 | 1.604 | |
| create.optimized.setup | 1.392 | 0.015 | 1.409 | |
| example.setup | 0.054 | 0.013 | 0.066 | |
| gContainer-class | 0.023 | 0.002 | 0.026 | |
| gExperimentSetup-class | 0.071 | 0.015 | 0.126 | |
| gSample-class | 0.015 | 0.001 | 0.015 | |
| gSlide-class | 0.039 | 0.001 | 0.040 | |
| get.experiment.setup | 1.278 | 0.008 | 1.287 | |
| multi.barplot | 0.020 | 0.003 | 0.023 | |
| multi.chisq.test | 0.011 | 0.001 | 0.013 | |
| optimal.block | 1.834 | 0.008 | 1.844 | |
| optimal.shuffle | 1.339 | 0.023 | 1.364 | |