| Back to Multiple platform build/check report for BioC 3.12 |
|
This page was generated on 2021-05-06 12:36:02 -0400 (Thu, 06 May 2021).
|
To the developers/maintainers of the ORFik package: Please make sure to use the following settings in order to reproduce any error or warning you see on this page. |
| Package 1278/1974 | Hostname | OS / Arch | INSTALL | BUILD | CHECK | BUILD BIN | ||||||||
| ORFik 1.10.13 (landing page) Haakon Tjeldnes
| malbec1 | Linux (Ubuntu 18.04.5 LTS) / x86_64 | OK | OK | OK | |||||||||
| tokay1 | Windows Server 2012 R2 Standard / x64 | OK | OK | WARNINGS | OK | |||||||||
| merida1 | macOS 10.14.6 Mojave / x86_64 | OK | OK | OK | OK | |||||||||
| Package: ORFik |
| Version: 1.10.13 |
| Command: /Library/Frameworks/R.framework/Versions/Current/Resources/bin/R CMD build --keep-empty-dirs --no-resave-data ORFik |
| StartedAt: 2021-05-05 21:03:12 -0400 (Wed, 05 May 2021) |
| EndedAt: 2021-05-05 21:07:22 -0400 (Wed, 05 May 2021) |
| EllapsedTime: 249.6 seconds |
| RetCode: 0 |
| Status: OK |
| PackageFile: ORFik_1.10.13.tar.gz |
| PackageFileSize: 2.64 MiB |
############################################################################## ############################################################################## ### ### Running command: ### ### /Library/Frameworks/R.framework/Versions/Current/Resources/bin/R CMD build --keep-empty-dirs --no-resave-data ORFik ### ############################################################################## ############################################################################## * checking for file ‘ORFik/DESCRIPTION’ ... OK * preparing ‘ORFik’: * checking DESCRIPTION meta-information ... OK * cleaning src * installing the package to build vignettes * creating vignettes ... OK * cleaning src * checking for LF line-endings in source and make files and shell scripts * checking for empty or unneeded directories * building ‘ORFik_1.10.13.tar.gz’