| Back to Multiple platform build/check report for BioC 3.12 |
|
This page was generated on 2021-05-06 12:32:27 -0400 (Thu, 06 May 2021).
|
To the developers/maintainers of the NeighborNet package: Please make sure to use the following settings in order to reproduce any error or warning you see on this page. |
| Package 1211/1974 | Hostname | OS / Arch | INSTALL | BUILD | CHECK | BUILD BIN | ||||||||
| NeighborNet 1.8.0 (landing page) Sahar Ansari
| malbec1 | Linux (Ubuntu 18.04.5 LTS) / x86_64 | OK | OK | OK | |||||||||
| tokay1 | Windows Server 2012 R2 Standard / x64 | OK | OK | OK | OK | |||||||||
| merida1 | macOS 10.14.6 Mojave / x86_64 | OK | OK | OK | OK | |||||||||
| Package: NeighborNet |
| Version: 1.8.0 |
| Command: rm -rf NeighborNet.buildbin-libdir && mkdir NeighborNet.buildbin-libdir && C:\Users\biocbuild\bbs-3.12-bioc\R\bin\R.exe CMD INSTALL --merge-multiarch --build --library=NeighborNet.buildbin-libdir NeighborNet_1.8.0.tar.gz |
| StartedAt: 2021-05-06 09:38:10 -0400 (Thu, 06 May 2021) |
| EndedAt: 2021-05-06 09:38:36 -0400 (Thu, 06 May 2021) |
| EllapsedTime: 26.2 seconds |
| RetCode: 0 |
| Status: OK |
| PackageFile: NeighborNet_1.8.0.zip |
| PackageFileSize: 3.586 MiB |
##############################################################################
##############################################################################
###
### Running command:
###
### rm -rf NeighborNet.buildbin-libdir && mkdir NeighborNet.buildbin-libdir && C:\Users\biocbuild\bbs-3.12-bioc\R\bin\R.exe CMD INSTALL --merge-multiarch --build --library=NeighborNet.buildbin-libdir NeighborNet_1.8.0.tar.gz
###
##############################################################################
##############################################################################
install for i386
* installing *source* package 'NeighborNet' ...
** using staged installation
** R
** inst
** byte-compile and prepare package for lazy loading
** help
*** installing help indices
converting help for package 'NeighborNet'
finding HTML links ... done
neighborNet html
finding level-2 HTML links ... done
** building package indices
** installing vignettes
** testing if installed package can be loaded from temporary location
** testing if installed package can be loaded from final location
** testing if installed package keeps a record of temporary installation path
install for x64
* installing *source* package 'NeighborNet' ...
** testing if installed package can be loaded
* MD5 sums
packaged installation of 'NeighborNet' as NeighborNet_1.8.0.zip
* DONE (NeighborNet)