| Back to Multiple platform build/check report for BioC 3.12 |
|
This page was generated on 2021-05-06 12:32:13 -0400 (Thu, 06 May 2021).
|
To the developers/maintainers of the MethTargetedNGS package: Please make sure to use the following settings in order to reproduce any error or warning you see on this page. |
| Package 1070/1974 | Hostname | OS / Arch | INSTALL | BUILD | CHECK | BUILD BIN | ||||||||
| MethTargetedNGS 1.22.0 (landing page) Muhammad Ahmer Jamil
| malbec1 | Linux (Ubuntu 18.04.5 LTS) / x86_64 | OK | OK | OK | |||||||||
| tokay1 | Windows Server 2012 R2 Standard / x64 | OK | OK | OK | OK | |||||||||
| merida1 | macOS 10.14.6 Mojave / x86_64 | OK | OK | OK | OK | |||||||||
| Package: MethTargetedNGS |
| Version: 1.22.0 |
| Command: rm -rf MethTargetedNGS.buildbin-libdir && mkdir MethTargetedNGS.buildbin-libdir && C:\Users\biocbuild\bbs-3.12-bioc\R\bin\R.exe CMD INSTALL --merge-multiarch --build --library=MethTargetedNGS.buildbin-libdir MethTargetedNGS_1.22.0.tar.gz |
| StartedAt: 2021-05-06 09:30:16 -0400 (Thu, 06 May 2021) |
| EndedAt: 2021-05-06 09:30:36 -0400 (Thu, 06 May 2021) |
| EllapsedTime: 20.4 seconds |
| RetCode: 0 |
| Status: OK |
| PackageFile: MethTargetedNGS_1.22.0.zip |
| PackageFileSize: 240.7 KiB |
##############################################################################
##############################################################################
###
### Running command:
###
### rm -rf MethTargetedNGS.buildbin-libdir && mkdir MethTargetedNGS.buildbin-libdir && C:\Users\biocbuild\bbs-3.12-bioc\R\bin\R.exe CMD INSTALL --merge-multiarch --build --library=MethTargetedNGS.buildbin-libdir MethTargetedNGS_1.22.0.tar.gz
###
##############################################################################
##############################################################################
install for i386
* installing *source* package 'MethTargetedNGS' ...
** using staged installation
** R
** inst
** byte-compile and prepare package for lazy loading
** help
*** installing help indices
converting help for package 'MethTargetedNGS'
finding HTML links ... done
MethTargetedNGS-package html
bconv html
compare_samples html
fishertest_cpg html
hmmbuild html
methAlign html
methAvg html
methEntropy html
methHeatmap html
nhmmer html
odd_ratio html
** building package indices
** installing vignettes
** testing if installed package can be loaded from temporary location
** testing if installed package can be loaded from final location
** testing if installed package keeps a record of temporary installation path
install for x64
* installing *source* package 'MethTargetedNGS' ...
** testing if installed package can be loaded
* MD5 sums
packaged installation of 'MethTargetedNGS' as MethTargetedNGS_1.22.0.zip
* DONE (MethTargetedNGS)