| Back to Multiple platform build/check report for BioC 3.12 | 
 | 
This page was generated on 2021-05-06 12:28:12 -0400 (Thu, 06 May 2021).
| To the developers/maintainers of the MethPed package: Please make sure to use the following settings in order to reproduce any error or warning you see on this page. | 
| Package 1067/1974 | Hostname | OS / Arch | INSTALL | BUILD | CHECK | BUILD BIN | ||||||||
| MethPed 1.18.0  (landing page) Helena Carén 
 | malbec1 | Linux (Ubuntu 18.04.5 LTS) / x86_64 | OK | OK | OK |  | ||||||||
| tokay1 | Windows Server 2012 R2 Standard / x64 | OK | OK | OK | OK |  | ||||||||
| merida1 | macOS 10.14.6 Mojave / x86_64 | OK | OK | OK | OK |  | ||||||||
| Package: MethPed | 
| Version: 1.18.0 | 
| Command: /home/biocbuild/bbs-3.12-bioc/R/bin/R CMD build --keep-empty-dirs --no-resave-data MethPed | 
| StartedAt: 2021-05-05 20:12:52 -0400 (Wed, 05 May 2021) | 
| EndedAt: 2021-05-05 20:14:49 -0400 (Wed, 05 May 2021) | 
| EllapsedTime: 116.9 seconds | 
| RetCode: 0 | 
| Status: OK | 
| PackageFile: MethPed_1.18.0.tar.gz | 
| PackageFileSize: 9.268 MiB | 
############################################################################## ############################################################################## ### ### Running command: ### ### /home/biocbuild/bbs-3.12-bioc/R/bin/R CMD build --keep-empty-dirs --no-resave-data MethPed ### ############################################################################## ############################################################################## * checking for file ‘MethPed/DESCRIPTION’ ... OK * preparing ‘MethPed’: * checking DESCRIPTION meta-information ... OK * installing the package to build vignettes * creating vignettes ... OK * checking for LF line-endings in source and make files and shell scripts * checking for empty or unneeded directories * looking to see if a ‘data/datalist’ file should be added * building ‘MethPed_1.18.0.tar.gz’