| Back to Multiple platform build/check report for BioC 3.12 |
|
This page was generated on 2021-05-06 12:35:40 -0400 (Thu, 06 May 2021).
|
To the developers/maintainers of the MethCP package: Please make sure to use the following settings in order to reproduce any error or warning you see on this page. |
| Package 1064/1974 | Hostname | OS / Arch | INSTALL | BUILD | CHECK | BUILD BIN | ||||||||
| MethCP 1.4.0 (landing page) Boying Gong
| malbec1 | Linux (Ubuntu 18.04.5 LTS) / x86_64 | OK | OK | OK | |||||||||
| tokay1 | Windows Server 2012 R2 Standard / x64 | OK | OK | OK | OK | |||||||||
| merida1 | macOS 10.14.6 Mojave / x86_64 | OK | OK | OK | OK | |||||||||
| Package: MethCP |
| Version: 1.4.0 |
| Command: /Library/Frameworks/R.framework/Versions/Current/Resources/bin/R CMD build --keep-empty-dirs --no-resave-data MethCP |
| StartedAt: 2021-05-05 20:34:32 -0400 (Wed, 05 May 2021) |
| EndedAt: 2021-05-05 20:39:52 -0400 (Wed, 05 May 2021) |
| EllapsedTime: 319.4 seconds |
| RetCode: 0 |
| Status: OK |
| PackageFile: MethCP_1.4.0.tar.gz |
| PackageFileSize: 4.386 MiB |
############################################################################## ############################################################################## ### ### Running command: ### ### /Library/Frameworks/R.framework/Versions/Current/Resources/bin/R CMD build --keep-empty-dirs --no-resave-data MethCP ### ############################################################################## ############################################################################## * checking for file ‘MethCP/DESCRIPTION’ ... OK * preparing ‘MethCP’: * checking DESCRIPTION meta-information ... OK * installing the package to build vignettes * creating vignettes ... OK * checking for LF line-endings in source and make files and shell scripts * checking for empty or unneeded directories * building ‘MethCP_1.4.0.tar.gz’