| Back to Multiple platform build/check report for BioC 3.12 |
|
This page was generated on 2021-05-06 12:35:39 -0400 (Thu, 06 May 2021).
|
To the developers/maintainers of the MetaboSignal package: Please make sure to use the following settings in order to reproduce any error or warning you see on this page. |
| Package 1048/1974 | Hostname | OS / Arch | INSTALL | BUILD | CHECK | BUILD BIN | ||||||||
| MetaboSignal 1.20.0 (landing page) Andrea Rodriguez-Martinez
| malbec1 | Linux (Ubuntu 18.04.5 LTS) / x86_64 | OK | OK | OK | |||||||||
| tokay1 | Windows Server 2012 R2 Standard / x64 | OK | OK | OK | OK | |||||||||
| merida1 | macOS 10.14.6 Mojave / x86_64 | OK | OK | OK | OK | |||||||||
| Package: MetaboSignal |
| Version: 1.20.0 |
| Command: /Library/Frameworks/R.framework/Versions/Current/Resources/bin/R CMD build --keep-empty-dirs --no-resave-data MetaboSignal |
| StartedAt: 2021-05-05 20:32:20 -0400 (Wed, 05 May 2021) |
| EndedAt: 2021-05-05 20:34:12 -0400 (Wed, 05 May 2021) |
| EllapsedTime: 112.0 seconds |
| RetCode: 0 |
| Status: OK |
| PackageFile: MetaboSignal_1.20.0.tar.gz |
| PackageFileSize: 2.093 MiB |
##############################################################################
##############################################################################
###
### Running command:
###
### /Library/Frameworks/R.framework/Versions/Current/Resources/bin/R CMD build --keep-empty-dirs --no-resave-data MetaboSignal
###
##############################################################################
##############################################################################
* checking for file ‘MetaboSignal/DESCRIPTION’ ... OK
* preparing ‘MetaboSignal’:
* checking DESCRIPTION meta-information ... OK
* installing the package to build vignettes
* creating vignettes ... OK
Warning: ‘inst/doc’ files
‘MetaboSignal.html’, ‘MetaboSignal2.html’
ignored as vignettes have been rebuilt.
Run R CMD build with --no-build-vignettes to prevent rebuilding.
* checking for LF line-endings in source and make files and shell scripts
* checking for empty or unneeded directories
* building ‘MetaboSignal_1.20.0.tar.gz’