| Back to Multiple platform build/check report for BioC 3.12 | 
 | 
This page was generated on 2021-05-06 12:32:12 -0400 (Thu, 06 May 2021).
| To the developers/maintainers of the MetaNeighbor package: Please make sure to use the following settings in order to reproduce any error or warning you see on this page. | 
| Package 1057/1974 | Hostname | OS / Arch | INSTALL | BUILD | CHECK | BUILD BIN | ||||||||
| MetaNeighbor 1.10.0  (landing page) Stephan Fischer 
 | malbec1 | Linux (Ubuntu 18.04.5 LTS) / x86_64 | OK | OK | OK |  | ||||||||
| tokay1 | Windows Server 2012 R2 Standard / x64 | OK | OK | OK | OK |  | ||||||||
| merida1 | macOS 10.14.6 Mojave / x86_64 | OK | OK | OK | OK |  | ||||||||
| Package: MetaNeighbor | 
| Version: 1.10.0 | 
| Command: rm -rf MetaNeighbor.buildbin-libdir && mkdir MetaNeighbor.buildbin-libdir && C:\Users\biocbuild\bbs-3.12-bioc\R\bin\R.exe CMD INSTALL --merge-multiarch --build --library=MetaNeighbor.buildbin-libdir MetaNeighbor_1.10.0.tar.gz | 
| StartedAt: 2021-05-06 09:29:31 -0400 (Thu, 06 May 2021) | 
| EndedAt: 2021-05-06 09:30:05 -0400 (Thu, 06 May 2021) | 
| EllapsedTime: 34.7 seconds | 
| RetCode: 0 | 
| Status: OK | 
| PackageFile: MetaNeighbor_1.10.0.zip | 
| PackageFileSize: 7.608 MiB | 
##############################################################################
##############################################################################
###
### Running command:
###
###   rm -rf MetaNeighbor.buildbin-libdir && mkdir MetaNeighbor.buildbin-libdir && C:\Users\biocbuild\bbs-3.12-bioc\R\bin\R.exe CMD INSTALL --merge-multiarch --build --library=MetaNeighbor.buildbin-libdir MetaNeighbor_1.10.0.tar.gz
###
##############################################################################
##############################################################################
install for i386
* installing *source* package 'MetaNeighbor' ...
** using staged installation
** R
** data
*** moving datasets to lazyload DB
** inst
** byte-compile and prepare package for lazy loading
** help
*** installing help indices
  converting help for package 'MetaNeighbor'
    finding HTML links ... done
    GOhuman                                 html  
    GOmouse                                 html  
    MetaNeighbor                            html  
    MetaNeighborUS                          html  
    extendClusterSet                        html  
    extractMetaClusters                     html  
    getCellType                             html  
    getStudyId                              html  
    makeClusterGraph                        html  
    makeClusterName                         html  
    mergeSCE                                html  
    mn_data                                 html  
    neighborVoting                          html  
    plotBPlot                               html  
    plotClusterGraph                        html  
    plotDotPlot                             html  
    plotHeatmap                             html  
    plotHeatmapPretrained                   html  
    plotMetaClusters                        html  
    plotUpset                               html  
    scoreMetaClusters                       html  
    splitClusters                           html  
    splitTestClusters                       html  
    splitTrainClusters                      html  
    standardizeLabel                        html  
    subsetClusterGraph                      html  
    topHits                                 html  
    trainModel                              html  
    variableGenes                           html  
** building package indices
** installing vignettes
** testing if installed package can be loaded from temporary location
** testing if installed package can be loaded from final location
** testing if installed package keeps a record of temporary installation path
install for x64
* installing *source* package 'MetaNeighbor' ...
** testing if installed package can be loaded
* MD5 sums
packaged installation of 'MetaNeighbor' as MetaNeighbor_1.10.0.zip
* DONE (MetaNeighbor)