| Back to Multiple platform build/check report for BioC 3.12 |
|
This page was generated on 2021-05-06 12:32:08 -0400 (Thu, 06 May 2021).
|
To the developers/maintainers of the MassSpecWavelet package: Please make sure to use the following settings in order to reproduce any error or warning you see on this page. |
| Package 1008/1974 | Hostname | OS / Arch | INSTALL | BUILD | CHECK | BUILD BIN | ||||||||
| MassSpecWavelet 1.56.0 (landing page) Pan Du
| malbec1 | Linux (Ubuntu 18.04.5 LTS) / x86_64 | OK | OK | OK | |||||||||
| tokay1 | Windows Server 2012 R2 Standard / x64 | OK | OK | OK | OK | |||||||||
| merida1 | macOS 10.14.6 Mojave / x86_64 | OK | OK | OK | OK | |||||||||
| Package: MassSpecWavelet |
| Version: 1.56.0 |
| Command: rm -rf MassSpecWavelet.buildbin-libdir && mkdir MassSpecWavelet.buildbin-libdir && C:\Users\biocbuild\bbs-3.12-bioc\R\bin\R.exe CMD INSTALL --merge-multiarch --build --library=MassSpecWavelet.buildbin-libdir MassSpecWavelet_1.56.0.tar.gz |
| StartedAt: 2021-05-06 09:26:51 -0400 (Thu, 06 May 2021) |
| EndedAt: 2021-05-06 09:27:30 -0400 (Thu, 06 May 2021) |
| EllapsedTime: 38.5 seconds |
| RetCode: 0 |
| Status: OK |
| PackageFile: MassSpecWavelet_1.56.0.zip |
| PackageFileSize: 1.186 MiB |
##############################################################################
##############################################################################
###
### Running command:
###
### rm -rf MassSpecWavelet.buildbin-libdir && mkdir MassSpecWavelet.buildbin-libdir && C:\Users\biocbuild\bbs-3.12-bioc\R\bin\R.exe CMD INSTALL --merge-multiarch --build --library=MassSpecWavelet.buildbin-libdir MassSpecWavelet_1.56.0.tar.gz
###
##############################################################################
##############################################################################
install for i386
* installing *source* package 'MassSpecWavelet' ...
** using staged installation
** libs
"C:/rtools40/mingw32/bin/"gcc -I"C:/Users/BIOCBU~1/BBS-3~1.12-/R/include" -DNDEBUG -I"C:/extsoft/include" -O2 -Wall -std=gnu99 -mfpmath=sse -msse2 -mstackrealign -c convolve2.c -o convolve2.o
C:/rtools40/mingw32/bin/gcc -shared -s -static-libgcc -o MassSpecWavelet.dll tmp.def convolve2.o -LC:/extsoft/lib/i386 -LC:/extsoft/lib -LC:/Users/BIOCBU~1/BBS-3~1.12-/R/bin/i386 -lR
installing to C:/Users/biocbuild/bbs-3.12-bioc/meat/MassSpecWavelet.buildbin-libdir/00LOCK-MassSpecWavelet/00new/MassSpecWavelet/libs/i386
** R
** data
** inst
** byte-compile and prepare package for lazy loading
** help
*** installing help indices
converting help for package 'MassSpecWavelet'
finding HTML links ... done
MassSpecWavelet.package html
cwt html
exampleMS html
extendLength html
extendNBase html
getLocalMaximumCWT html
getRidge html
getRidgeLength html
getRidgeValue html
identifyMajorPeaks html
localMaximum html
mzInd2vRange html
mzV2indRange html
peakDetectionCWT html
plotLocalMax html
plotPeak html
plotRidgeList html
sav.gol html
smoothDWT html
tuneInPeakInfo html
** building package indices
** installing vignettes
** testing if installed package can be loaded from temporary location
** testing if installed package can be loaded from final location
** testing if installed package keeps a record of temporary installation path
install for x64
* installing *source* package 'MassSpecWavelet' ...
** libs
"C:/rtools40/mingw64/bin/"gcc -I"C:/Users/BIOCBU~1/BBS-3~1.12-/R/include" -DNDEBUG -I"C:/extsoft/include" -O2 -Wall -std=gnu99 -mfpmath=sse -msse2 -mstackrealign -c convolve2.c -o convolve2.o
C:/rtools40/mingw64/bin/gcc -shared -s -static-libgcc -o MassSpecWavelet.dll tmp.def convolve2.o -LC:/extsoft/lib/x64 -LC:/extsoft/lib -LC:/Users/BIOCBU~1/BBS-3~1.12-/R/bin/x64 -lR
installing to C:/Users/biocbuild/bbs-3.12-bioc/meat/MassSpecWavelet.buildbin-libdir/MassSpecWavelet/libs/x64
** testing if installed package can be loaded
* MD5 sums
packaged installation of 'MassSpecWavelet' as MassSpecWavelet_1.56.0.zip
* DONE (MassSpecWavelet)