| Back to Multiple platform build/check report for BioC 3.12 | 
  | 
This page was generated on 2021-05-06 12:32:25 -0400 (Thu, 06 May 2021).
| 
To the developers/maintainers of the MWASTools package: Please make sure to use the following settings in order to reproduce any error or warning you see on this page.  | 
| Package 1191/1974 | Hostname | OS / Arch | INSTALL | BUILD | CHECK | BUILD BIN | ||||||||
| MWASTools 1.14.0  (landing page) Andrea Rodriguez-Martinez 
  | malbec1 | Linux (Ubuntu 18.04.5 LTS) / x86_64 | OK | OK | OK | |||||||||
| tokay1 | Windows Server 2012 R2 Standard / x64 | OK | OK | OK | OK | |||||||||
| merida1 | macOS 10.14.6 Mojave / x86_64 | OK | OK | OK | OK | |||||||||
| Package: MWASTools | 
| Version: 1.14.0 | 
| Command: rm -rf MWASTools.buildbin-libdir && mkdir MWASTools.buildbin-libdir && C:\Users\biocbuild\bbs-3.12-bioc\R\bin\R.exe CMD INSTALL --merge-multiarch --build --library=MWASTools.buildbin-libdir MWASTools_1.14.0.tar.gz | 
| StartedAt: 2021-05-06 09:37:04 -0400 (Thu, 06 May 2021) | 
| EndedAt: 2021-05-06 09:37:47 -0400 (Thu, 06 May 2021) | 
| EllapsedTime: 42.5 seconds | 
| RetCode: 0 | 
| Status: OK | 
| PackageFile: MWASTools_1.14.0.zip | 
| PackageFileSize: 2.466 MiB | 
##############################################################################
##############################################################################
###
### Running command:
###
###   rm -rf MWASTools.buildbin-libdir && mkdir MWASTools.buildbin-libdir && C:\Users\biocbuild\bbs-3.12-bioc\R\bin\R.exe CMD INSTALL --merge-multiarch --build --library=MWASTools.buildbin-libdir MWASTools_1.14.0.tar.gz
###
##############################################################################
##############################################################################
install for i386
* installing *source* package 'MWASTools' ...
** using staged installation
** R
** data
*** moving datasets to lazyload DB
** inst
** byte-compile and prepare package for lazy loading
** help
*** installing help indices
  converting help for package 'MWASTools'
    finding HTML links ... done
    CV_filter                               html  
    JBA_binning                             html  
    JBA_corDistribution                     html  
    JBA_plotBins                            html  
    KEGG_metabolic_paths                    html  
    MS_data                                 html  
    MWAS_KEGG_network                       html  
    MWAS_KEGG_pathways                      html  
    MWAS_KEGG_shortestpaths                 html  
    MWAS_SummarizedExperiment               html  
    MWAS_barplot                            html  
    MWAS_bootstrapping                      html  
    MWAS_filter                             html  
    MWAS_heatmap                            html  
    MWAS_network                            html  
    MWAS_scatterplotMS                      html  
    MWAS_skylineNMR                         html  
    MWAS_stats                              html  
    QC_CV                                   html  
    QC_CV_scatterplot                       html  
    QC_CV_specNMR                           html  
    QC_PCA                                  html  
    QC_PCA_scoreplot                        html  
    STOCSY_NMR                              html  
    metabo_SE                               html  
    plot_spectraNMR                         html  
    targetMetabo_SE                         html  
** building package indices
** installing vignettes
** testing if installed package can be loaded from temporary location
** testing if installed package can be loaded from final location
** testing if installed package keeps a record of temporary installation path
install for x64
* installing *source* package 'MWASTools' ...
** testing if installed package can be loaded
* MD5 sums
packaged installation of 'MWASTools' as MWASTools_1.14.0.zip
* DONE (MWASTools)