| Back to Multiple platform build/check report for BioC 3.12 | 
 | 
This page was generated on 2021-05-06 12:32:23 -0400 (Thu, 06 May 2021).
| To the developers/maintainers of the MSstatsSampleSize package: Please make sure to use the following settings in order to reproduce any error or warning you see on this page. | 
| Package 1170/1974 | Hostname | OS / Arch | INSTALL | BUILD | CHECK | BUILD BIN | ||||||||
| MSstatsSampleSize 1.4.0  (landing page) Ting Huang 
 | malbec1 | Linux (Ubuntu 18.04.5 LTS) / x86_64 | OK | OK | WARNINGS |  | ||||||||
| tokay1 | Windows Server 2012 R2 Standard / x64 | OK | OK | WARNINGS | OK |  | ||||||||
| merida1 | macOS 10.14.6 Mojave / x86_64 | OK | OK | WARNINGS | OK |  | ||||||||
| Package: MSstatsSampleSize | 
| Version: 1.4.0 | 
| Command: rm -rf MSstatsSampleSize.buildbin-libdir && mkdir MSstatsSampleSize.buildbin-libdir && C:\Users\biocbuild\bbs-3.12-bioc\R\bin\R.exe CMD INSTALL --merge-multiarch --build --library=MSstatsSampleSize.buildbin-libdir MSstatsSampleSize_1.4.0.tar.gz | 
| StartedAt: 2021-05-06 09:35:53 -0400 (Thu, 06 May 2021) | 
| EndedAt: 2021-05-06 09:36:50 -0400 (Thu, 06 May 2021) | 
| EllapsedTime: 56.8 seconds | 
| RetCode: 0 | 
| Status: OK | 
| PackageFile: MSstatsSampleSize_1.4.0.zip | 
| PackageFileSize: 3.22 MiB | 
##############################################################################
##############################################################################
###
### Running command:
###
###   rm -rf MSstatsSampleSize.buildbin-libdir && mkdir MSstatsSampleSize.buildbin-libdir && C:\Users\biocbuild\bbs-3.12-bioc\R\bin\R.exe CMD INSTALL --merge-multiarch --build --library=MSstatsSampleSize.buildbin-libdir MSstatsSampleSize_1.4.0.tar.gz
###
##############################################################################
##############################################################################
install for i386
* installing *source* package 'MSstatsSampleSize' ...
** using staged installation
** R
** data
*** moving datasets to lazyload DB
** inst
** byte-compile and prepare package for lazy loading
** help
*** installing help indices
  converting help for package 'MSstatsSampleSize'
    finding HTML links ... done
    MSstatsSampleSize                       html  
    OV_SRM_train                            html  
    OV_SRM_train_annotation                 html  
    classification_results                  html  
    designSampleSizeClassification          html  
    designSampleSizeClassificationPlots     html  
    designSampleSizeHypothesisTestingPlot   html  
    designSampleSizePCAplot                 html  
    dot-classification                      html  
    dot-classificationModel                 html  
    dot-classificationPerformance           html  
    dot-logGeneration                       html  
    dot-randomImputation                    html  
    dot-sampleSimulation                    html  
    estimateVar                             html  
    meanSDplot                              html  
    simulateDataset                         html  
    simulated_datasets                      html  
    variance_estimation                     html  
** building package indices
** installing vignettes
** testing if installed package can be loaded from temporary location
** testing if installed package can be loaded from final location
** testing if installed package keeps a record of temporary installation path
install for x64
* installing *source* package 'MSstatsSampleSize' ...
** testing if installed package can be loaded
* MD5 sums
packaged installation of 'MSstatsSampleSize' as MSstatsSampleSize_1.4.0.zip
* DONE (MSstatsSampleSize)