| Back to Multiple platform build/check report for BioC 3.12 | 
 | 
This page was generated on 2021-05-06 12:35:48 -0400 (Thu, 06 May 2021).
| To the developers/maintainers of the MPRAnalyze package: Please make sure to use the following settings in order to reproduce any error or warning you see on this page. | 
| Package 1151/1974 | Hostname | OS / Arch | INSTALL | BUILD | CHECK | BUILD BIN | ||||||||
| MPRAnalyze 1.8.0  (landing page) Tal Ashuach 
 | malbec1 | Linux (Ubuntu 18.04.5 LTS) / x86_64 | OK | OK | OK |  | ||||||||
| tokay1 | Windows Server 2012 R2 Standard / x64 | OK | OK | OK | OK |  | ||||||||
| merida1 | macOS 10.14.6 Mojave / x86_64 | OK | OK | OK | OK |  | ||||||||
| Package: MPRAnalyze | 
| Version: 1.8.0 | 
| Command: rm -rf MPRAnalyze.buildbin-libdir && mkdir MPRAnalyze.buildbin-libdir && /Users/biocbuild/BBS/utils/build-universal.sh MPRAnalyze_1.8.0.tar.gz /Library/Frameworks/R.framework/Versions/Current/Resources/bin/R MPRAnalyze.buildbin-libdir | 
| StartedAt: 2021-05-06 09:19:02 -0400 (Thu, 06 May 2021) | 
| EndedAt: 2021-05-06 09:19:47 -0400 (Thu, 06 May 2021) | 
| EllapsedTime: 44.9 seconds | 
| RetCode: 0 | 
| Status: OK | 
| PackageFile: MPRAnalyze_1.8.0.tgz | 
| PackageFileSize: 566.7 KiB | 
############################################################################## ############################################################################## ### ### Running command: ### ### rm -rf MPRAnalyze.buildbin-libdir && mkdir MPRAnalyze.buildbin-libdir && /Users/biocbuild/BBS/utils/build-universal.sh MPRAnalyze_1.8.0.tar.gz /Library/Frameworks/R.framework/Versions/Current/Resources/bin/R MPRAnalyze.buildbin-libdir ### ############################################################################## ############################################################################## >>>>>>> >>>>>>> INSTALLATION WITH 'R CMD INSTALL --preclean --no-multiarch --library=MPRAnalyze.buildbin-libdir MPRAnalyze_1.8.0.tar.gz' >>>>>>> * installing *source* package ‘MPRAnalyze’ ... ** using staged installation ** R ** data ** inst ** byte-compile and prepare package for lazy loading ** help *** installing help indices ** building package indices ** installing vignettes ** testing if installed package can be loaded from temporary location ** testing if installed package can be loaded from final location ** testing if installed package keeps a record of temporary installation path * DONE (MPRAnalyze)