| Back to Multiple platform build/check report for BioC 3.12 |
|
This page was generated on 2021-05-06 12:28:09 -0400 (Thu, 06 May 2021).
|
To the developers/maintainers of the MBttest package: Please make sure to use the following settings in order to reproduce any error or warning you see on this page. |
| Package 1020/1974 | Hostname | OS / Arch | INSTALL | BUILD | CHECK | BUILD BIN | ||||||||
| MBttest 1.18.0 (landing page) Yuan-De Tan
| malbec1 | Linux (Ubuntu 18.04.5 LTS) / x86_64 | OK | OK | OK | |||||||||
| tokay1 | Windows Server 2012 R2 Standard / x64 | OK | OK | OK | OK | |||||||||
| merida1 | macOS 10.14.6 Mojave / x86_64 | OK | OK | OK | OK | |||||||||
| Package: MBttest |
| Version: 1.18.0 |
| Command: /home/biocbuild/bbs-3.12-bioc/R/bin/R CMD build --keep-empty-dirs --no-resave-data MBttest |
| StartedAt: 2021-05-05 20:05:00 -0400 (Wed, 05 May 2021) |
| EndedAt: 2021-05-05 20:05:23 -0400 (Wed, 05 May 2021) |
| EllapsedTime: 23.1 seconds |
| RetCode: 0 |
| Status: OK |
| PackageFile: MBttest_1.18.0.tar.gz |
| PackageFileSize: 3.445 MiB |
##############################################################################
##############################################################################
###
### Running command:
###
### /home/biocbuild/bbs-3.12-bioc/R/bin/R CMD build --keep-empty-dirs --no-resave-data MBttest
###
##############################################################################
##############################################################################
* checking for file ‘MBttest/DESCRIPTION’ ... OK
* preparing ‘MBttest’:
* checking DESCRIPTION meta-information ... OK
* installing the package to build vignettes
* creating vignettes ... OK
Warning: ‘inst/doc’ files
‘MBttest.pdf’, ‘MBttest.R’
ignored as vignettes have been rebuilt.
Run R CMD build with --no-build-vignettes to prevent rebuilding.
* checking for LF line-endings in source and make files and shell scripts
* checking for empty or unneeded directories
* looking to see if a ‘data/datalist’ file should be added
* building ‘MBttest_1.18.0.tar.gz’