| Back to Multiple platform build/check report for BioC 3.12 | 
 | 
This page was generated on 2021-05-06 12:35:36 -0400 (Thu, 06 May 2021).
| To the developers/maintainers of the MAST package: Please make sure to use the following settings in order to reproduce any error or warning you see on this page. | 
| Package 1009/1974 | Hostname | OS / Arch | INSTALL | BUILD | CHECK | BUILD BIN | ||||||||
| MAST 1.16.0  (landing page) Andrew McDavid 
 | malbec1 | Linux (Ubuntu 18.04.5 LTS) / x86_64 | OK | OK | OK |  | ||||||||
| tokay1 | Windows Server 2012 R2 Standard / x64 | OK | OK | OK | OK |  | ||||||||
| merida1 | macOS 10.14.6 Mojave / x86_64 | OK | OK | OK | OK |  | ||||||||
| Package: MAST | 
| Version: 1.16.0 | 
| Command: /Library/Frameworks/R.framework/Versions/Current/Resources/bin/R CMD build --keep-empty-dirs --no-resave-data MAST | 
| StartedAt: 2021-05-05 20:27:06 -0400 (Wed, 05 May 2021) | 
| EndedAt: 2021-05-05 20:35:23 -0400 (Wed, 05 May 2021) | 
| EllapsedTime: 497.8 seconds | 
| RetCode: 0 | 
| Status: OK | 
| PackageFile: MAST_1.16.0.tar.gz | 
| PackageFileSize: 6.437 MiB | 
############################################################################## ############################################################################## ### ### Running command: ### ### /Library/Frameworks/R.framework/Versions/Current/Resources/bin/R CMD build --keep-empty-dirs --no-resave-data MAST ### ############################################################################## ############################################################################## * checking for file ‘MAST/DESCRIPTION’ ... OK * preparing ‘MAST’: * checking DESCRIPTION meta-information ... OK * installing the package to build vignettes * creating vignettes ... OK * checking for LF line-endings in source and make files and shell scripts * checking for empty or unneeded directories WARNING: directory ‘MAST/docs/articles/MAITAnalysis_cache’ is empty WARNING: directory ‘MAST/docs/articles/MAITAnalysis_files’ is empty * building ‘MAST_1.16.0.tar.gz’