| Back to Multiple platform build/check report for BioC 3.12 |
|
This page was generated on 2021-05-06 12:35:32 -0400 (Thu, 06 May 2021).
|
To the developers/maintainers of the M3Drop package: Please make sure to use the following settings in order to reproduce any error or warning you see on this page. |
| Package 981/1974 | Hostname | OS / Arch | INSTALL | BUILD | CHECK | BUILD BIN | ||||||||
| M3Drop 1.16.0 (landing page) Tallulah Andrews
| malbec1 | Linux (Ubuntu 18.04.5 LTS) / x86_64 | OK | OK | OK | |||||||||
| tokay1 | Windows Server 2012 R2 Standard / x64 | OK | OK | OK | OK | |||||||||
| merida1 | macOS 10.14.6 Mojave / x86_64 | OK | OK | OK | OK | |||||||||
| Package: M3Drop |
| Version: 1.16.0 |
| Command: /Library/Frameworks/R.framework/Versions/Current/Resources/bin/R CMD build --keep-empty-dirs --no-resave-data M3Drop |
| StartedAt: 2021-05-05 20:23:17 -0400 (Wed, 05 May 2021) |
| EndedAt: 2021-05-05 20:25:55 -0400 (Wed, 05 May 2021) |
| EllapsedTime: 158.6 seconds |
| RetCode: 0 |
| Status: OK |
| PackageFile: M3Drop_1.16.0.tar.gz |
| PackageFileSize: 12.16 MiB |
############################################################################## ############################################################################## ### ### Running command: ### ### /Library/Frameworks/R.framework/Versions/Current/Resources/bin/R CMD build --keep-empty-dirs --no-resave-data M3Drop ### ############################################################################## ############################################################################## * checking for file ‘M3Drop/DESCRIPTION’ ... OK * preparing ‘M3Drop’: * checking DESCRIPTION meta-information ... OK * installing the package to build vignettes * creating vignettes ... OK * checking for LF line-endings in source and make files and shell scripts * checking for empty or unneeded directories * building ‘M3Drop_1.16.0.tar.gz’