| Back to Multiple platform build/check report for BioC 3.12 |
|
This page was generated on 2021-05-06 12:32:04 -0400 (Thu, 06 May 2021).
|
To the developers/maintainers of the M3C package: Please make sure to use the following settings in order to reproduce any error or warning you see on this page. |
| Package 980/1974 | Hostname | OS / Arch | INSTALL | BUILD | CHECK | BUILD BIN | ||||||||
| M3C 1.12.0 (landing page) Christopher John
| malbec1 | Linux (Ubuntu 18.04.5 LTS) / x86_64 | OK | OK | OK | |||||||||
| tokay1 | Windows Server 2012 R2 Standard / x64 | OK | OK | OK | OK | |||||||||
| merida1 | macOS 10.14.6 Mojave / x86_64 | OK | OK | OK | OK | |||||||||
| Package: M3C |
| Version: 1.12.0 |
| Command: rm -rf M3C.buildbin-libdir && mkdir M3C.buildbin-libdir && C:\Users\biocbuild\bbs-3.12-bioc\R\bin\R.exe CMD INSTALL --merge-multiarch --build --library=M3C.buildbin-libdir M3C_1.12.0.tar.gz |
| StartedAt: 2021-05-06 09:25:14 -0400 (Thu, 06 May 2021) |
| EndedAt: 2021-05-06 09:25:55 -0400 (Thu, 06 May 2021) |
| EllapsedTime: 41.7 seconds |
| RetCode: 0 |
| Status: OK |
| PackageFile: M3C_1.12.0.zip |
| PackageFileSize: 765.4 KiB |
##############################################################################
##############################################################################
###
### Running command:
###
### rm -rf M3C.buildbin-libdir && mkdir M3C.buildbin-libdir && C:\Users\biocbuild\bbs-3.12-bioc\R\bin\R.exe CMD INSTALL --merge-multiarch --build --library=M3C.buildbin-libdir M3C_1.12.0.tar.gz
###
##############################################################################
##############################################################################
install for i386
* installing *source* package 'M3C' ...
** using staged installation
** R
** data
*** moving datasets to lazyload DB
** inst
** byte-compile and prepare package for lazy loading
** help
*** installing help indices
converting help for package 'M3C'
finding HTML links ... done
M3C html
clustersim html
desx html
featurefilter html
mydata html
pca html
tsne html
umap html
** building package indices
** installing vignettes
** testing if installed package can be loaded from temporary location
** testing if installed package can be loaded from final location
** testing if installed package keeps a record of temporary installation path
install for x64
* installing *source* package 'M3C' ...
** testing if installed package can be loaded
* MD5 sums
packaged installation of 'M3C' as M3C_1.12.0.zip
* DONE (M3C)