Back to Multiple platform build/check report for BioC 3.12 |
|
This page was generated on 2021-05-06 12:35:30 -0400 (Thu, 06 May 2021).
To the developers/maintainers of the LOBSTAHS package: Please make sure to use the following settings in order to reproduce any error or warning you see on this page. |
Package 965/1974 | Hostname | OS / Arch | INSTALL | BUILD | CHECK | BUILD BIN | ||||||||
LOBSTAHS 1.16.0 (landing page) James Collins
| malbec1 | Linux (Ubuntu 18.04.5 LTS) / x86_64 | OK | OK | WARNINGS | |||||||||
tokay1 | Windows Server 2012 R2 Standard / x64 | OK | OK | WARNINGS | OK | |||||||||
merida1 | macOS 10.14.6 Mojave / x86_64 | OK | OK | WARNINGS | OK | |||||||||
Package: LOBSTAHS |
Version: 1.16.0 |
Command: rm -rf LOBSTAHS.buildbin-libdir && mkdir LOBSTAHS.buildbin-libdir && /Users/biocbuild/BBS/utils/build-universal.sh LOBSTAHS_1.16.0.tar.gz /Library/Frameworks/R.framework/Versions/Current/Resources/bin/R LOBSTAHS.buildbin-libdir |
StartedAt: 2021-05-06 09:04:27 -0400 (Thu, 06 May 2021) |
EndedAt: 2021-05-06 09:05:31 -0400 (Thu, 06 May 2021) |
EllapsedTime: 64.5 seconds |
RetCode: 0 |
Status: OK |
PackageFile: LOBSTAHS_1.16.0.tgz |
PackageFileSize: 2.434 MiB |
############################################################################## ############################################################################## ### ### Running command: ### ### rm -rf LOBSTAHS.buildbin-libdir && mkdir LOBSTAHS.buildbin-libdir && /Users/biocbuild/BBS/utils/build-universal.sh LOBSTAHS_1.16.0.tar.gz /Library/Frameworks/R.framework/Versions/Current/Resources/bin/R LOBSTAHS.buildbin-libdir ### ############################################################################## ############################################################################## >>>>>>> >>>>>>> INSTALLATION WITH 'R CMD INSTALL --preclean --no-multiarch --library=LOBSTAHS.buildbin-libdir LOBSTAHS_1.16.0.tar.gz' >>>>>>> * installing *source* package ‘LOBSTAHS’ ... ** using staged installation ** R ** data ** inst ** byte-compile and prepare package for lazy loading Creating a new generic function for ‘polarity<-’ in package ‘LOBSTAHS’ ** help *** installing help indices ** building package indices ** installing vignettes ** testing if installed package can be loaded from temporary location Warning: multiple methods tables found for ‘polarity<-’ ** testing if installed package can be loaded from final location Warning: multiple methods tables found for ‘polarity<-’ ** testing if installed package keeps a record of temporary installation path * DONE (LOBSTAHS)