| Back to Multiple platform build/check report for BioC 3.12 |
|
This page was generated on 2021-05-06 12:35:27 -0400 (Thu, 06 May 2021).
|
To the developers/maintainers of the LACE package: Please make sure to use the following settings in order to reproduce any error or warning you see on this page. |
| Package 945/1974 | Hostname | OS / Arch | INSTALL | BUILD | CHECK | BUILD BIN | ||||||||
| LACE 1.2.1 (landing page) Davide Maspero
| malbec1 | Linux (Ubuntu 18.04.5 LTS) / x86_64 | OK | OK | OK | |||||||||
| tokay1 | Windows Server 2012 R2 Standard / x64 | OK | OK | OK | OK | |||||||||
| merida1 | macOS 10.14.6 Mojave / x86_64 | OK | OK | OK | OK | |||||||||
| Package: LACE |
| Version: 1.2.1 |
| Command: /Library/Frameworks/R.framework/Versions/Current/Resources/bin/R CMD build --keep-empty-dirs --no-resave-data LACE |
| StartedAt: 2021-05-05 20:18:51 -0400 (Wed, 05 May 2021) |
| EndedAt: 2021-05-05 20:19:37 -0400 (Wed, 05 May 2021) |
| EllapsedTime: 46.0 seconds |
| RetCode: 0 |
| Status: OK |
| PackageFile: LACE_1.2.1.tar.gz |
| PackageFileSize: 228.5 KiB |
############################################################################## ############################################################################## ### ### Running command: ### ### /Library/Frameworks/R.framework/Versions/Current/Resources/bin/R CMD build --keep-empty-dirs --no-resave-data LACE ### ############################################################################## ############################################################################## * checking for file ‘LACE/DESCRIPTION’ ... OK * preparing ‘LACE’: * checking DESCRIPTION meta-information ... OK * installing the package to build vignettes * creating vignettes ... OK * checking for LF line-endings in source and make files and shell scripts * checking for empty or unneeded directories WARNING: directory ‘LACE/.github’ is empty * building ‘LACE_1.2.1.tar.gz’