| Back to Multiple platform build/check report for BioC 3.12 |
|
This page was generated on 2021-05-06 12:28:04 -0400 (Thu, 06 May 2021).
|
To the developers/maintainers of the KnowSeq package: Please make sure to use the following settings in order to reproduce any error or warning you see on this page. |
| Package 944/1974 | Hostname | OS / Arch | INSTALL | BUILD | CHECK | BUILD BIN | ||||||||
| KnowSeq 1.4.5 (landing page) Daniel Castillo-Secilla
| malbec1 | Linux (Ubuntu 18.04.5 LTS) / x86_64 | OK | OK | OK | |||||||||
| tokay1 | Windows Server 2012 R2 Standard / x64 | OK | OK | OK | OK | |||||||||
| merida1 | macOS 10.14.6 Mojave / x86_64 | OK | OK | OK | OK | |||||||||
| Package: KnowSeq |
| Version: 1.4.5 |
| Command: /home/biocbuild/bbs-3.12-bioc/R/bin/R CMD check --install=check:KnowSeq.install-out.txt --library=/home/biocbuild/bbs-3.12-bioc/R/library --no-vignettes --timings KnowSeq_1.4.5.tar.gz |
| StartedAt: 2021-05-06 02:53:09 -0400 (Thu, 06 May 2021) |
| EndedAt: 2021-05-06 02:59:50 -0400 (Thu, 06 May 2021) |
| EllapsedTime: 401.3 seconds |
| RetCode: 0 |
| Status: OK |
| CheckDir: KnowSeq.Rcheck |
| Warnings: 0 |
##############################################################################
##############################################################################
###
### Running command:
###
### /home/biocbuild/bbs-3.12-bioc/R/bin/R CMD check --install=check:KnowSeq.install-out.txt --library=/home/biocbuild/bbs-3.12-bioc/R/library --no-vignettes --timings KnowSeq_1.4.5.tar.gz
###
##############################################################################
##############################################################################
* using log directory ‘/home/biocbuild/bbs-3.12-bioc/meat/KnowSeq.Rcheck’
* using R version 4.0.5 (2021-03-31)
* using platform: x86_64-pc-linux-gnu (64-bit)
* using session charset: UTF-8
* using option ‘--no-vignettes’
* checking for file ‘KnowSeq/DESCRIPTION’ ... OK
* checking extension type ... Package
* this is package ‘KnowSeq’ version ‘1.4.5’
* package encoding: UTF-8
* checking package namespace information ... OK
* checking package dependencies ... OK
* checking if this is a source package ... OK
* checking if there is a namespace ... OK
* checking for hidden files and directories ... OK
* checking for portable file names ... OK
* checking for sufficient/correct file permissions ... OK
* checking whether package ‘KnowSeq’ can be installed ... OK
* checking installed package size ... NOTE
installed size is 5.5Mb
sub-directories of 1Mb or more:
extdata 5.2Mb
* checking package directory ... OK
* checking ‘build’ directory ... OK
* checking DESCRIPTION meta-information ... OK
* checking top-level files ... OK
* checking for left-over files ... OK
* checking index information ... OK
* checking package subdirectories ... OK
* checking R files for non-ASCII characters ... OK
* checking R files for syntax errors ... OK
* checking whether the package can be loaded ... OK
* checking whether the package can be loaded with stated dependencies ... OK
* checking whether the package can be unloaded cleanly ... OK
* checking whether the namespace can be loaded with stated dependencies ... OK
* checking whether the namespace can be unloaded cleanly ... OK
* checking dependencies in R code ... OK
* checking S3 generic/method consistency ... OK
* checking replacement functions ... OK
* checking foreign function calls ... OK
* checking R code for possible problems ... NOTE
DEGsExtraction: warning in topTable(fit, number = number, coef = 2,
sort.by = "logFC", p.value = pvalue, adjust = "fdr", lfc = lfc):
partial argument match of 'adjust' to 'adjust.method'
DEGsEvidences: no visible binding for global variable ‘evidence’
RNAseqQA : outlierBarPlot: no visible binding for global variable ‘x’
RNAseqQA : outlierBarPlot: no visible binding for global variable ‘y’
RNAseqQA: no visible binding for global variable ‘Var1’
RNAseqQA: no visible binding for global variable ‘Var2’
RNAseqQA: no visible binding for global variable ‘value’
RNAseqQA: no visible binding for global variable ‘Expression’
RNAseqQA: no visible binding for global variable ‘Samples’
dataPlot: no visible binding for global variable ‘Var1’
dataPlot: no visible binding for global variable ‘Var2’
dataPlot: no visible binding for global variable ‘value’
dataPlot: no visible binding for global variable ‘Classes’
dataPlot: no visible binding for global variable ‘Value’
featureSelection: no visible binding for global variable ‘target’
featureSelection: no visible binding for global variable
‘association_score’
knowseqReport: no visible binding for global variable ‘target’
Undefined global functions or variables:
Classes Expression Samples Value Var1 Var2 association_score evidence
target value x y
* checking Rd files ... OK
* checking Rd metadata ... OK
* checking Rd cross-references ... OK
* checking for missing documentation entries ... OK
* checking for code/documentation mismatches ... OK
* checking Rd \usage sections ... OK
* checking Rd contents ... OK
* checking for unstated dependencies in examples ... OK
* checking files in ‘vignettes’ ... OK
* checking examples ... OK
Examples with CPU (user + system) or elapsed time > 5s
user system elapsed
svm_test 46.648 0.056 46.781
svm_trn 43.552 0.024 43.664
rf_trn 40.628 0.064 40.769
dataPlot 31.676 0.068 31.804
rf_test 15.428 0.016 15.478
downloadPublicSeries 1.312 0.436 17.473
* checking for unstated dependencies in vignettes ... OK
* checking package vignettes in ‘inst/doc’ ... OK
* checking running R code from vignettes ... SKIPPED
* checking re-building of vignette outputs ... SKIPPED
* checking PDF version of manual ... OK
* DONE
Status: 2 NOTEs
See
‘/home/biocbuild/bbs-3.12-bioc/meat/KnowSeq.Rcheck/00check.log’
for details.
KnowSeq.Rcheck/00install.out
############################################################################## ############################################################################## ### ### Running command: ### ### /home/biocbuild/bbs-3.12-bioc/R/bin/R CMD INSTALL KnowSeq ### ############################################################################## ############################################################################## * installing to library ‘/home/biocbuild/bbs-3.12-bioc/R/library’ * installing *source* package ‘KnowSeq’ ... ** using staged installation ** R ** inst ** byte-compile and prepare package for lazy loading Warning message: In .recacheSubclasses(def@className, def, env) : undefined subclass "numericVector" of class "Mnumeric"; definition not updated ** help *** installing help indices ** building package indices ** installing vignettes ** testing if installed package can be loaded from temporary location Warning in .recacheSubclasses(def@className, def, env) : undefined subclass "numericVector" of class "Mnumeric"; definition not updated ** testing if installed package can be loaded from final location Warning in .recacheSubclasses(def@className, def, env) : undefined subclass "numericVector" of class "Mnumeric"; definition not updated ** testing if installed package keeps a record of temporary installation path * DONE (KnowSeq)
KnowSeq.Rcheck/KnowSeq-Ex.timings
| name | user | system | elapsed | |
| DEGsEvidences | 0.376 | 0.012 | 0.589 | |
| DEGsExtraction | 1.580 | 0.068 | 1.679 | |
| DEGsToDiseases | 0.064 | 0.000 | 0.137 | |
| DEGsToPathways | 0.616 | 0.004 | 2.890 | |
| RNAseqQA | 2.376 | 0.052 | 2.435 | |
| batchEffectRemoval | 1.552 | 0.384 | 1.965 | |
| calculateGeneExpressionValues | 0.872 | 0.008 | 0.881 | |
| countsToMatrix | 0.084 | 0.004 | 0.114 | |
| dataPlot | 31.676 | 0.068 | 31.804 | |
| downloadPublicSeries | 1.312 | 0.436 | 17.473 | |
| featureSelection | 0.016 | 0.004 | 0.014 | |
| fileMove | 0.000 | 0.000 | 0.001 | |
| gdcClientDownload | 0 | 0 | 0 | |
| geneOntologyEnrichment | 0 | 0 | 0 | |
| getGenesAnnotation | 0.308 | 0.000 | 0.310 | |
| hisatAlignment | 0.000 | 0.000 | 0.002 | |
| knn_test | 0.072 | 0.000 | 0.069 | |
| knn_trn | 2.584 | 0.080 | 2.665 | |
| knowseqReport | 0.004 | 0.000 | 0.005 | |
| plotConfMatrix | 0.016 | 0.000 | 0.019 | |
| rawAlignment | 0.004 | 0.000 | 0.002 | |
| rf_test | 15.428 | 0.016 | 15.478 | |
| rf_trn | 40.628 | 0.064 | 40.769 | |
| sraToFastq | 0 | 0 | 0 | |
| svm_test | 46.648 | 0.056 | 46.781 | |
| svm_trn | 43.552 | 0.024 | 43.664 | |