| Back to Multiple platform build/check report for BioC 3.12 |
|
This page was generated on 2021-05-06 12:28:04 -0400 (Thu, 06 May 2021).
|
To the developers/maintainers of the KEGGREST package: Please make sure to use the following settings in order to reproduce any error or warning you see on this page. |
| Package 941/1974 | Hostname | OS / Arch | INSTALL | BUILD | CHECK | BUILD BIN | ||||||||
| KEGGREST 1.30.1 (landing page) Bioconductor Package Maintainer
| malbec1 | Linux (Ubuntu 18.04.5 LTS) / x86_64 | OK | OK | ERROR | |||||||||
| tokay1 | Windows Server 2012 R2 Standard / x64 | OK | OK | ERROR | OK | |||||||||
| merida1 | macOS 10.14.6 Mojave / x86_64 | OK | OK | ERROR | OK | |||||||||
| Package: KEGGREST |
| Version: 1.30.1 |
| Command: /home/biocbuild/bbs-3.12-bioc/R/bin/R CMD build --keep-empty-dirs --no-resave-data KEGGREST |
| StartedAt: 2021-05-05 19:55:27 -0400 (Wed, 05 May 2021) |
| EndedAt: 2021-05-05 19:55:54 -0400 (Wed, 05 May 2021) |
| EllapsedTime: 27.5 seconds |
| RetCode: 0 |
| Status: OK |
| PackageFile: KEGGREST_1.30.1.tar.gz |
| PackageFileSize: 25.02 KiB |
############################################################################## ############################################################################## ### ### Running command: ### ### /home/biocbuild/bbs-3.12-bioc/R/bin/R CMD build --keep-empty-dirs --no-resave-data KEGGREST ### ############################################################################## ############################################################################## * checking for file ‘KEGGREST/DESCRIPTION’ ... OK * preparing ‘KEGGREST’: * checking DESCRIPTION meta-information ... OK * installing the package to build vignettes * creating vignettes ... OK * checking for LF line-endings in source and make files and shell scripts * checking for empty or unneeded directories * building ‘KEGGREST_1.30.1.tar.gz’