Back to Multiple platform build/check report for BioC 3.12 |
|
This page was generated on 2021-05-06 12:31:53 -0400 (Thu, 06 May 2021).
To the developers/maintainers of the IsoGeneGUI package: Please make sure to use the following settings in order to reproduce any error or warning you see on this page. |
Package 921/1974 | Hostname | OS / Arch | INSTALL | BUILD | CHECK | BUILD BIN | ||||||||
IsoGeneGUI 2.26.0 (landing page) Setia Pramana
| malbec1 | Linux (Ubuntu 18.04.5 LTS) / x86_64 | OK | OK | OK | |||||||||
tokay1 | Windows Server 2012 R2 Standard / x64 | OK | OK | OK | OK | |||||||||
merida1 | macOS 10.14.6 Mojave / x86_64 | OK | OK | OK | OK | |||||||||
Package: IsoGeneGUI |
Version: 2.26.0 |
Command: C:\Users\biocbuild\bbs-3.12-bioc\R\bin\R.exe --arch x64 CMD INSTALL --no-multiarch IsoGeneGUI |
StartedAt: 2021-05-05 18:14:01 -0400 (Wed, 05 May 2021) |
EndedAt: 2021-05-05 18:15:35 -0400 (Wed, 05 May 2021) |
EllapsedTime: 93.9 seconds |
RetCode: 0 |
Status: OK |
############################################################################## ############################################################################## ### ### Running command: ### ### C:\Users\biocbuild\bbs-3.12-bioc\R\bin\R.exe --arch x64 CMD INSTALL --no-multiarch IsoGeneGUI ### ############################################################################## ############################################################################## * installing to library 'C:/Users/biocbuild/bbs-3.12-bioc/R/library' * installing *source* package 'IsoGeneGUI' ... ** using staged installation ** R ** inst ** byte-compile and prepare package for lazy loading ** help *** installing help indices converting help for package 'IsoGeneGUI' finding HTML links ... done IsoGeneGUI-package html IsoGeneGUI html IsoGeneGUIHelp html ** building package indices ** installing vignettes 'IsoGeneGUI.Rnw' ** testing if installed package can be loaded from temporary location ** testing if installed package can be loaded from final location ** testing if installed package keeps a record of temporary installation path * DONE (IsoGeneGUI) Making 'packages.html' ... done