| Back to Multiple platform build/check report for BioC 3.12 |
|
This page was generated on 2021-05-06 12:35:23 -0400 (Thu, 06 May 2021).
|
To the developers/maintainers of the InteractionSet package: Please make sure to use the following settings in order to reproduce any error or warning you see on this page. |
| Package 901/1974 | Hostname | OS / Arch | INSTALL | BUILD | CHECK | BUILD BIN | ||||||||
| InteractionSet 1.18.1 (landing page) Aaron Lun
| malbec1 | Linux (Ubuntu 18.04.5 LTS) / x86_64 | OK | OK | OK | |||||||||
| tokay1 | Windows Server 2012 R2 Standard / x64 | OK | OK | WARNINGS | OK | |||||||||
| merida1 | macOS 10.14.6 Mojave / x86_64 | OK | OK | OK | OK | |||||||||
| Package: InteractionSet |
| Version: 1.18.1 |
| Command: rm -rf InteractionSet.buildbin-libdir && mkdir InteractionSet.buildbin-libdir && /Users/biocbuild/BBS/utils/build-universal.sh InteractionSet_1.18.1.tar.gz /Library/Frameworks/R.framework/Versions/Current/Resources/bin/R InteractionSet.buildbin-libdir |
| StartedAt: 2021-05-06 08:59:15 -0400 (Thu, 06 May 2021) |
| EndedAt: 2021-05-06 09:00:11 -0400 (Thu, 06 May 2021) |
| EllapsedTime: 56.0 seconds |
| RetCode: 0 |
| Status: OK |
| PackageFile: InteractionSet_1.18.1.tgz |
| PackageFileSize: 1.503 MiB |
##############################################################################
##############################################################################
###
### Running command:
###
### rm -rf InteractionSet.buildbin-libdir && mkdir InteractionSet.buildbin-libdir && /Users/biocbuild/BBS/utils/build-universal.sh InteractionSet_1.18.1.tar.gz /Library/Frameworks/R.framework/Versions/Current/Resources/bin/R InteractionSet.buildbin-libdir
###
##############################################################################
##############################################################################
>>>>>>>
>>>>>>> INSTALLATION WITH 'R CMD INSTALL --preclean --no-multiarch --library=InteractionSet.buildbin-libdir InteractionSet_1.18.1.tar.gz'
>>>>>>>
* installing *source* package ‘InteractionSet’ ...
** using staged installation
** libs
clang++ -mmacosx-version-min=10.13 -std=gnu++11 -I"/Library/Frameworks/R.framework/Resources/include" -DNDEBUG -I'/Library/Frameworks/R.framework/Versions/4.0/Resources/library/Rcpp/include' -I/usr/local/include -fPIC -Wall -g -O2 -c box_bounds.cpp -o box_bounds.o
In file included from box_bounds.cpp:1:
In file included from ./iset.h:12:
In file included from /Library/Frameworks/R.framework/Versions/4.0/Resources/library/Rcpp/include/Rcpp.h:57:
/Library/Frameworks/R.framework/Versions/4.0/Resources/library/Rcpp/include/Rcpp/DataFrame.h:136:18: warning: unused variable 'data' [-Wunused-variable]
SEXP data = Parent::get__();
^
1 warning generated.
clang++ -mmacosx-version-min=10.13 -std=gnu++11 -I"/Library/Frameworks/R.framework/Resources/include" -DNDEBUG -I'/Library/Frameworks/R.framework/Versions/4.0/Resources/library/Rcpp/include' -I/usr/local/include -fPIC -Wall -g -O2 -c detect_overlaps.cpp -o detect_overlaps.o
In file included from detect_overlaps.cpp:1:
In file included from ./overlap_utils.h:4:
In file included from ./iset.h:12:
In file included from /Library/Frameworks/R.framework/Versions/4.0/Resources/library/Rcpp/include/Rcpp.h:57:
/Library/Frameworks/R.framework/Versions/4.0/Resources/library/Rcpp/include/Rcpp/DataFrame.h:136:18: warning: unused variable 'data' [-Wunused-variable]
SEXP data = Parent::get__();
^
1 warning generated.
clang++ -mmacosx-version-min=10.13 -std=gnu++11 -I"/Library/Frameworks/R.framework/Resources/include" -DNDEBUG -I'/Library/Frameworks/R.framework/Versions/4.0/Resources/library/Rcpp/include' -I/usr/local/include -fPIC -Wall -g -O2 -c init.cpp -o init.o
In file included from init.cpp:1:
In file included from ./iset.h:12:
In file included from /Library/Frameworks/R.framework/Versions/4.0/Resources/library/Rcpp/include/Rcpp.h:57:
/Library/Frameworks/R.framework/Versions/4.0/Resources/library/Rcpp/include/Rcpp/DataFrame.h:136:18: warning: unused variable 'data' [-Wunused-variable]
SEXP data = Parent::get__();
^
1 warning generated.
clang++ -mmacosx-version-min=10.13 -std=gnu++11 -I"/Library/Frameworks/R.framework/Resources/include" -DNDEBUG -I'/Library/Frameworks/R.framework/Versions/4.0/Resources/library/Rcpp/include' -I/usr/local/include -fPIC -Wall -g -O2 -c link_overlaps.cpp -o link_overlaps.o
In file included from link_overlaps.cpp:1:
In file included from ./overlap_utils.h:4:
In file included from ./iset.h:12:
In file included from /Library/Frameworks/R.framework/Versions/4.0/Resources/library/Rcpp/include/Rcpp.h:57:
/Library/Frameworks/R.framework/Versions/4.0/Resources/library/Rcpp/include/Rcpp/DataFrame.h:136:18: warning: unused variable 'data' [-Wunused-variable]
SEXP data = Parent::get__();
^
1 warning generated.
clang++ -mmacosx-version-min=10.13 -std=gnu++11 -I"/Library/Frameworks/R.framework/Resources/include" -DNDEBUG -I'/Library/Frameworks/R.framework/Versions/4.0/Resources/library/Rcpp/include' -I/usr/local/include -fPIC -Wall -g -O2 -c overlap_utils.cpp -o overlap_utils.o
In file included from overlap_utils.cpp:1:
In file included from ./overlap_utils.h:4:
In file included from ./iset.h:12:
In file included from /Library/Frameworks/R.framework/Versions/4.0/Resources/library/Rcpp/include/Rcpp.h:57:
/Library/Frameworks/R.framework/Versions/4.0/Resources/library/Rcpp/include/Rcpp/DataFrame.h:136:18: warning: unused variable 'data' [-Wunused-variable]
SEXP data = Parent::get__();
^
1 warning generated.
clang++ -mmacosx-version-min=10.13 -std=gnu++11 -dynamiclib -Wl,-headerpad_max_install_names -undefined dynamic_lookup -single_module -multiply_defined suppress -L/Library/Frameworks/R.framework/Resources/lib -L/usr/local/lib -o InteractionSet.so box_bounds.o detect_overlaps.o init.o link_overlaps.o overlap_utils.o -F/Library/Frameworks/R.framework/.. -framework R -Wl,-framework -Wl,CoreFoundation
installing to /Users/biocbuild/bbs-3.12-bioc/meat/InteractionSet.buildbin-libdir/00LOCK-InteractionSet/00new/InteractionSet/libs
** R
** inst
** byte-compile and prepare package for lazy loading
** help
*** installing help indices
** building package indices
** installing vignettes
** testing if installed package can be loaded from temporary location
** checking absolute paths in shared objects and dynamic libraries
** testing if installed package can be loaded from final location
** testing if installed package keeps a record of temporary installation path
* DONE (InteractionSet)
>>>>>>>
>>>>>>> FIXING LINKS FOR InteractionSet.buildbin-libdir/InteractionSet/libs/InteractionSet.so
>>>>>>>
install_name_tool -change "/usr/local/lib/libgcc_s.1.dylib" "/Library/Frameworks/R.framework/Versions/4.0/Resources/lib/libgcc_s.1.dylib" "InteractionSet.buildbin-libdir/InteractionSet/libs/InteractionSet.so"
install_name_tool -change "/usr/local/lib/libgfortran.5.dylib" "/Library/Frameworks/R.framework/Versions/4.0/Resources/lib/libgfortran.5.dylib" "InteractionSet.buildbin-libdir/InteractionSet/libs/InteractionSet.so"
install_name_tool -change "/usr/local/lib/libquadmath.0.dylib" "/Library/Frameworks/R.framework/Versions/4.0/Resources/lib/libquadmath.0.dylib" "InteractionSet.buildbin-libdir/InteractionSet/libs/InteractionSet.so"