| Back to Multiple platform build/check report for BioC 3.12 |
|
This page was generated on 2021-05-06 12:28:01 -0400 (Thu, 06 May 2021).
|
To the developers/maintainers of the IntEREst package: Please make sure to use the following settings in order to reproduce any error or warning you see on this page. |
| Package 904/1974 | Hostname | OS / Arch | INSTALL | BUILD | CHECK | BUILD BIN | ||||||||
| IntEREst 1.14.0 (landing page) Ali Oghabian
| malbec1 | Linux (Ubuntu 18.04.5 LTS) / x86_64 | OK | OK | OK | |||||||||
| tokay1 | Windows Server 2012 R2 Standard / x64 | OK | OK | WARNINGS | OK | |||||||||
| merida1 | macOS 10.14.6 Mojave / x86_64 | OK | OK | OK | OK | |||||||||
| Package: IntEREst |
| Version: 1.14.0 |
| Command: /home/biocbuild/bbs-3.12-bioc/R/bin/R CMD check --install=check:IntEREst.install-out.txt --library=/home/biocbuild/bbs-3.12-bioc/R/library --no-vignettes --timings IntEREst_1.14.0.tar.gz |
| StartedAt: 2021-05-06 02:41:39 -0400 (Thu, 06 May 2021) |
| EndedAt: 2021-05-06 02:48:17 -0400 (Thu, 06 May 2021) |
| EllapsedTime: 398.2 seconds |
| RetCode: 0 |
| Status: OK |
| CheckDir: IntEREst.Rcheck |
| Warnings: 0 |
##############################################################################
##############################################################################
###
### Running command:
###
### /home/biocbuild/bbs-3.12-bioc/R/bin/R CMD check --install=check:IntEREst.install-out.txt --library=/home/biocbuild/bbs-3.12-bioc/R/library --no-vignettes --timings IntEREst_1.14.0.tar.gz
###
##############################################################################
##############################################################################
* using log directory ‘/home/biocbuild/bbs-3.12-bioc/meat/IntEREst.Rcheck’
* using R version 4.0.5 (2021-03-31)
* using platform: x86_64-pc-linux-gnu (64-bit)
* using session charset: UTF-8
* using option ‘--no-vignettes’
* checking for file ‘IntEREst/DESCRIPTION’ ... OK
* this is package ‘IntEREst’ version ‘1.14.0’
* checking package namespace information ... OK
* checking package dependencies ... OK
* checking if this is a source package ... OK
* checking if there is a namespace ... OK
* checking for hidden files and directories ... OK
* checking for portable file names ... OK
* checking for sufficient/correct file permissions ... OK
* checking whether package ‘IntEREst’ can be installed ... OK
* checking installed package size ... OK
* checking package directory ... OK
* checking ‘build’ directory ... OK
* checking DESCRIPTION meta-information ... OK
* checking top-level files ... OK
* checking for left-over files ... OK
* checking index information ... OK
* checking package subdirectories ... OK
* checking R files for non-ASCII characters ... OK
* checking R files for syntax errors ... OK
* checking whether the package can be loaded ... OK
* checking whether the package can be loaded with stated dependencies ... OK
* checking whether the package can be unloaded cleanly ... OK
* checking whether the namespace can be loaded with stated dependencies ... OK
* checking whether the namespace can be unloaded cleanly ... OK
* checking dependencies in R code ... OK
* checking S3 generic/method consistency ... OK
* checking replacement functions ... OK
* checking foreign function calls ... OK
* checking R code for possible problems ... OK
* checking Rd files ... OK
* checking Rd metadata ... OK
* checking Rd cross-references ... OK
* checking for missing documentation entries ... OK
* checking for code/documentation mismatches ... OK
* checking Rd \usage sections ... OK
* checking Rd contents ... OK
* checking for unstated dependencies in examples ... OK
* checking contents of ‘data’ directory ... OK
* checking data for non-ASCII characters ... OK
* checking data for ASCII and uncompressed saves ... OK
* checking files in ‘vignettes’ ... OK
* checking examples ... OK
Examples with CPU (user + system) or elapsed time > 5s
user system elapsed
DEXSeqIntEREst 33.136 0.172 33.409
deseqInterest 6.904 0.020 6.938
* checking for unstated dependencies in vignettes ... OK
* checking package vignettes in ‘inst/doc’ ... OK
* checking running R code from vignettes ... SKIPPED
* checking re-building of vignette outputs ... SKIPPED
* checking PDF version of manual ... OK
* DONE
Status: OK
IntEREst.Rcheck/00install.out
############################################################################## ############################################################################## ### ### Running command: ### ### /home/biocbuild/bbs-3.12-bioc/R/bin/R CMD INSTALL IntEREst ### ############################################################################## ############################################################################## * installing to library ‘/home/biocbuild/bbs-3.12-bioc/R/library’ * installing *source* package ‘IntEREst’ ... ** using staged installation ** R ** data *** moving datasets to lazyload DB ** inst ** byte-compile and prepare package for lazy loading ** help *** installing help indices ** building package indices ** installing vignettes ** testing if installed package can be loaded from temporary location ** testing if installed package can be loaded from final location ** testing if installed package keeps a record of temporary installation path * DONE (IntEREst)
IntEREst.Rcheck/IntEREst-Ex.timings
| name | user | system | elapsed | |
| DEXSeqIntEREst | 33.136 | 0.172 | 33.409 | |
| addAnnotation | 0.048 | 0.000 | 0.051 | |
| annotateU12 | 4.384 | 0.132 | 4.523 | |
| applyOverlap | 0.220 | 0.004 | 0.224 | |
| attributes | 0.048 | 0.000 | 0.045 | |
| boxplot-method | 0.084 | 0.004 | 0.088 | |
| buildSsTypePwms | 0.000 | 0.000 | 0.001 | |
| counts-method | 0.032 | 0.000 | 0.035 | |
| deseqInterest | 6.904 | 0.020 | 6.938 | |
| exactTestInterest | 0.148 | 0.000 | 0.148 | |
| getRepeatTable | 0.004 | 0.000 | 0.000 | |
| glmInterest | 0.232 | 0.000 | 0.233 | |
| interest | 1.988 | 0.008 | 2.047 | |
| interest.sequential | 2.144 | 0.004 | 2.154 | |
| interestResult | 0.028 | 0.000 | 0.028 | |
| interestResultIntEx | 0.184 | 0.000 | 0.185 | |
| intexIndex | 0.008 | 0.000 | 0.008 | |
| lfc | 0.220 | 0.004 | 0.221 | |
| mergeInterestResult | 0.052 | 0.000 | 0.055 | |
| plot-method | 0.320 | 0.000 | 0.321 | |
| psi | 1.236 | 0.000 | 1.241 | |
| qlfInterest | 0.256 | 0.008 | 0.267 | |
| readInterestResults | 0.032 | 0.000 | 0.031 | |
| referencePrepare | 1.128 | 0.000 | 1.130 | |
| subInterestResult | 0.036 | 0.000 | 0.037 | |
| treatInterest | 1.216 | 0.000 | 1.219 | |
| u12Boxplot | 0.088 | 0.000 | 0.085 | |
| u12BoxplotNb | 0.104 | 0.000 | 0.103 | |
| u12DensityPlot | 0.296 | 0.004 | 0.299 | |
| u12Index | 0.016 | 0.000 | 0.015 | |
| u12NbIndex | 0.148 | 0.004 | 0.152 | |
| unionRefTr | 0.028 | 0.000 | 0.026 | |
| updateRowDataCol | 0.064 | 0.000 | 0.064 | |