| Back to Multiple platform build/check report for BioC 3.12 |
|
This page was generated on 2021-05-06 12:27:57 -0400 (Thu, 06 May 2021).
|
To the developers/maintainers of the ImmuneSpaceR package: Please make sure to use the following settings in order to reproduce any error or warning you see on this page. |
| Package 886/1974 | Hostname | OS / Arch | INSTALL | BUILD | CHECK | BUILD BIN | ||||||||
| ImmuneSpaceR 1.18.1 (landing page) ImmuneSpace Package Maintainer
| malbec1 | Linux (Ubuntu 18.04.5 LTS) / x86_64 | OK | OK | OK | |||||||||
| tokay1 | Windows Server 2012 R2 Standard / x64 | OK | OK | OK | OK | |||||||||
| merida1 | macOS 10.14.6 Mojave / x86_64 | OK | OK | OK | OK | |||||||||
| Package: ImmuneSpaceR |
| Version: 1.18.1 |
| Command: /home/biocbuild/bbs-3.12-bioc/R/bin/R CMD build --keep-empty-dirs --no-resave-data ImmuneSpaceR |
| StartedAt: 2021-05-05 19:45:37 -0400 (Wed, 05 May 2021) |
| EndedAt: 2021-05-05 19:47:38 -0400 (Wed, 05 May 2021) |
| EllapsedTime: 120.5 seconds |
| RetCode: 0 |
| Status: OK |
| PackageFile: ImmuneSpaceR_1.18.1.tar.gz |
| PackageFileSize: 1.459 MiB |
############################################################################## ############################################################################## ### ### Running command: ### ### /home/biocbuild/bbs-3.12-bioc/R/bin/R CMD build --keep-empty-dirs --no-resave-data ImmuneSpaceR ### ############################################################################## ############################################################################## * checking for file ‘ImmuneSpaceR/DESCRIPTION’ ... OK * preparing ‘ImmuneSpaceR’: * checking DESCRIPTION meta-information ... OK * installing the package to build vignettes * creating vignettes ... OK * checking for LF line-endings in source and make files and shell scripts * checking for empty or unneeded directories NB: this package now depends on R (>= 3.5.0) WARNING: Added dependency on R >= 3.5.0 because serialized objects in serialize/load version 3 cannot be read in older versions of R. File(s) containing such objects: ‘ImmuneSpaceR/tests/testthat/datasets/SDY180_fcs_control_files.rds’ WARNING: Added dependency on R >= 3.5.0 because serialized objects in serialize/load version 3 cannot be read in older versions of R. File(s) containing such objects: ‘ImmuneSpaceR/tests/testthat/datasets/SDY180_fcs_sample_files.rds’ WARNING: Added dependency on R >= 3.5.0 because serialized objects in serialize/load version 3 cannot be read in older versions of R. File(s) containing such objects: ‘ImmuneSpaceR/tests/testthat/datasets/SDY180_mbaa.rds’ WARNING: Added dependency on R >= 3.5.0 because serialized objects in serialize/load version 3 cannot be read in older versions of R. File(s) containing such objects: ‘ImmuneSpaceR/tests/testthat/datasets/SDY180_neut_ab_titer.rds’ WARNING: Added dependency on R >= 3.5.0 because serialized objects in serialize/load version 3 cannot be read in older versions of R. File(s) containing such objects: ‘ImmuneSpaceR/tests/testthat/datasets/SDY269_elisa.rds’ WARNING: Added dependency on R >= 3.5.0 because serialized objects in serialize/load version 3 cannot be read in older versions of R. File(s) containing such objects: ‘ImmuneSpaceR/tests/testthat/datasets/SDY269_elispot.rds’ * building ‘ImmuneSpaceR_1.18.1.tar.gz’