| Back to Multiple platform build/check report for BioC 3.12 |
|
This page was generated on 2021-05-06 12:31:54 -0400 (Thu, 06 May 2021).
|
To the developers/maintainers of the ITALICS package: Please make sure to use the following settings in order to reproduce any error or warning you see on this page. |
| Package 924/1974 | Hostname | OS / Arch | INSTALL | BUILD | CHECK | BUILD BIN | ||||||||
| ITALICS 2.50.0 (landing page) Guillem Rigaill
| malbec1 | Linux (Ubuntu 18.04.5 LTS) / x86_64 | OK | OK | OK | |||||||||
| tokay1 | Windows Server 2012 R2 Standard / x64 | OK | OK | OK | OK | |||||||||
| merida1 | macOS 10.14.6 Mojave / x86_64 | OK | OK | OK | OK | |||||||||
| Package: ITALICS |
| Version: 2.50.0 |
| Command: rm -rf ITALICS.buildbin-libdir && mkdir ITALICS.buildbin-libdir && C:\Users\biocbuild\bbs-3.12-bioc\R\bin\R.exe CMD INSTALL --merge-multiarch --build --library=ITALICS.buildbin-libdir ITALICS_2.50.0.tar.gz |
| StartedAt: 2021-05-06 09:21:55 -0400 (Thu, 06 May 2021) |
| EndedAt: 2021-05-06 09:22:30 -0400 (Thu, 06 May 2021) |
| EllapsedTime: 34.5 seconds |
| RetCode: 0 |
| Status: OK |
| PackageFile: ITALICS_2.50.0.zip |
| PackageFileSize: 460.6 KiB |
##############################################################################
##############################################################################
###
### Running command:
###
### rm -rf ITALICS.buildbin-libdir && mkdir ITALICS.buildbin-libdir && C:\Users\biocbuild\bbs-3.12-bioc\R\bin\R.exe CMD INSTALL --merge-multiarch --build --library=ITALICS.buildbin-libdir ITALICS_2.50.0.tar.gz
###
##############################################################################
##############################################################################
install for i386
* installing *source* package 'ITALICS' ...
** using staged installation
** R
** inst
** byte-compile and prepare package for lazy loading
** help
*** installing help indices
converting help for package 'ITALICS'
finding HTML links ... done
GLAD.GLAD html
ITALICSNew html
ITALICSTrain html
Model.GetConfDat html
Model.GetCorrection html
Model.GetEffet html
Model.GetModel html
Model.GetResidu html
New.AddInfo html
New.fromQuartetToSnp html
New.fromSnpToQuartet html
New.getQuartet html
New.getSnpInfo html
New.readQuartetCopyNb html
** building package indices
** installing vignettes
** testing if installed package can be loaded from temporary location
** testing if installed package can be loaded from final location
** testing if installed package keeps a record of temporary installation path
install for x64
* installing *source* package 'ITALICS' ...
** testing if installed package can be loaded
* MD5 sums
packaged installation of 'ITALICS' as ITALICS_2.50.0.zip
* DONE (ITALICS)