| Back to Multiple platform build/check report for BioC 3.12 | 
 | 
This page was generated on 2021-05-06 12:31:26 -0400 (Thu, 06 May 2021).
| To the developers/maintainers of the GeneStructureTools package: Please make sure to use the following settings in order to reproduce any error or warning you see on this page. | 
| Package 701/1974 | Hostname | OS / Arch | INSTALL | BUILD | CHECK | BUILD BIN | ||||||||
| GeneStructureTools 1.10.0  (landing page) Beth Signal 
 | malbec1 | Linux (Ubuntu 18.04.5 LTS) / x86_64 | OK | OK | OK |  | ||||||||
| tokay1 | Windows Server 2012 R2 Standard / x64 | OK | OK | OK | OK |  | ||||||||
| merida1 | macOS 10.14.6 Mojave / x86_64 | OK | OK | OK | OK |  | ||||||||
| Package: GeneStructureTools | 
| Version: 1.10.0 | 
| Command: C:\cygwin\bin\curl.exe -O http://172.29.0.3/BBS/3.12/bioc/src/contrib/GeneStructureTools_1.10.0.tar.gz && rm -rf GeneStructureTools.buildbin-libdir && mkdir GeneStructureTools.buildbin-libdir && C:\Users\biocbuild\bbs-3.12-bioc\R\bin\R.exe CMD INSTALL --merge-multiarch --build --library=GeneStructureTools.buildbin-libdir GeneStructureTools_1.10.0.tar.gz && C:\Users\biocbuild\bbs-3.12-bioc\R\bin\R.exe CMD INSTALL GeneStructureTools_1.10.0.zip && rm GeneStructureTools_1.10.0.tar.gz GeneStructureTools_1.10.0.zip | 
| StartedAt: 2021-05-05 18:46:22 -0400 (Wed, 05 May 2021) | 
| EndedAt: 2021-05-05 18:48:35 -0400 (Wed, 05 May 2021) | 
| EllapsedTime: 133.2 seconds | 
| RetCode: 0 | 
| Status: OK | 
##############################################################################
##############################################################################
###
### Running command:
###
###   C:\cygwin\bin\curl.exe -O http://172.29.0.3/BBS/3.12/bioc/src/contrib/GeneStructureTools_1.10.0.tar.gz && rm -rf GeneStructureTools.buildbin-libdir && mkdir GeneStructureTools.buildbin-libdir && C:\Users\biocbuild\bbs-3.12-bioc\R\bin\R.exe CMD INSTALL --merge-multiarch --build --library=GeneStructureTools.buildbin-libdir GeneStructureTools_1.10.0.tar.gz && C:\Users\biocbuild\bbs-3.12-bioc\R\bin\R.exe CMD INSTALL GeneStructureTools_1.10.0.zip && rm GeneStructureTools_1.10.0.tar.gz GeneStructureTools_1.10.0.zip
###
##############################################################################
##############################################################################
  % Total    % Received % Xferd  Average Speed   Time    Time     Time  Current
                                 Dload  Upload   Total   Spent    Left  Speed
  0     0    0     0    0     0      0      0 --:--:-- --:--:-- --:--:--     0
100  987k  100  987k    0     0  36.6M      0 --:--:-- --:--:-- --:--:-- 38.5M
install for i386
* installing *source* package 'GeneStructureTools' ...
** using staged installation
** R
** inst
** byte-compile and prepare package for lazy loading
** help
*** installing help indices
  converting help for package 'GeneStructureTools'
    finding HTML links ... done
    DEXSeqIdsToGeneIds                      html  
    UTR2UTR53                               html  
    addBroadTypes                           html  
    addIntronInTranscript                   html  
    addSets                                 html  
    alternativeIntronUsage                  html  
    annotateGeneModel                       html  
    attrChangeAltSpliced                    html  
    coordinates-methods                     html  
    cumsumANDpad                            html  
    diffSplicingResults-methods             html  
    exonsToTranscripts                      html  
    filterGtfOverlap                        html  
    filterWhippetEvents                     html  
    findDEXexonType                         html  
    findExonContainingTranscripts           html  
    findIntronContainingTranscripts         html  
    findJunctionPairs                       html  
    formatWhippetEvents                     html  
    getOrfs                                 html  
    getUOrfs                                html  
    junctions-methods                       html  
    leafcutterTranscriptChangeSummary       html  
    makeGeneModel                           html  
    maxLocation                             html  
    orfDiff                                 html  
    orfSimilarity                           html  
    overlapTypes                            html  
    readCounts-methods                      html  
    readWhippetDIFFfiles                    html  
    readWhippetDataSet                      html  
    readWhippetJNCfiles                     html  
    readWhippetPSIfiles                     html  
    removeDuplicateTranscripts              html  
    removeSameExon                          html  
    removeVersion                           html  
    reorderExonNumbers                      html  
    replaceJunction                         html  
    skipExonInTranscript                    html  
    summariseExonTypes                      html  
    transcriptChangeSummary                 html  
    whippetDataSet-class                    html  
    whippetTranscriptChangeSummary          html  
** building package indices
** installing vignettes
** testing if installed package can be loaded from temporary location
** testing if installed package can be loaded from final location
** testing if installed package keeps a record of temporary installation path
install for x64
* installing *source* package 'GeneStructureTools' ...
** testing if installed package can be loaded
* MD5 sums
packaged installation of 'GeneStructureTools' as GeneStructureTools_1.10.0.zip
* DONE (GeneStructureTools)
* installing to library 'C:/Users/biocbuild/bbs-3.12-bioc/R/library'
package 'GeneStructureTools' successfully unpacked and MD5 sums checked