| Back to Multiple platform build/check report for BioC 3.12 |
|
This page was generated on 2021-05-06 12:31:43 -0400 (Thu, 06 May 2021).
|
To the developers/maintainers of the GUIDEseq package: Please make sure to use the following settings in order to reproduce any error or warning you see on this page. |
| Package 804/1974 | Hostname | OS / Arch | INSTALL | BUILD | CHECK | BUILD BIN | ||||||||
| GUIDEseq 1.20.0 (landing page) Lihua Julie Zhu
| malbec1 | Linux (Ubuntu 18.04.5 LTS) / x86_64 | OK | OK | OK | |||||||||
| tokay1 | Windows Server 2012 R2 Standard / x64 | OK | OK | OK | OK | |||||||||
| merida1 | macOS 10.14.6 Mojave / x86_64 | OK | OK | OK | OK | |||||||||
| Package: GUIDEseq |
| Version: 1.20.0 |
| Command: rm -rf GUIDEseq.buildbin-libdir && mkdir GUIDEseq.buildbin-libdir && C:\Users\biocbuild\bbs-3.12-bioc\R\bin\R.exe CMD INSTALL --merge-multiarch --build --library=GUIDEseq.buildbin-libdir GUIDEseq_1.20.0.tar.gz |
| StartedAt: 2021-05-06 09:15:26 -0400 (Thu, 06 May 2021) |
| EndedAt: 2021-05-06 09:16:35 -0400 (Thu, 06 May 2021) |
| EllapsedTime: 68.9 seconds |
| RetCode: 0 |
| Status: OK |
| PackageFile: GUIDEseq_1.20.0.zip |
| PackageFileSize: 4.696 MiB |
##############################################################################
##############################################################################
###
### Running command:
###
### rm -rf GUIDEseq.buildbin-libdir && mkdir GUIDEseq.buildbin-libdir && C:\Users\biocbuild\bbs-3.12-bioc\R\bin\R.exe CMD INSTALL --merge-multiarch --build --library=GUIDEseq.buildbin-libdir GUIDEseq_1.20.0.tar.gz
###
##############################################################################
##############################################################################
install for i386
* installing *source* package 'GUIDEseq' ...
** using staged installation
** R
** data
** inst
** byte-compile and prepare package for lazy loading
** help
*** installing help indices
converting help for package 'GUIDEseq'
finding HTML links ... done
GUIDEseq-package html
GUIDEseqAnalysis html
annotateOffTargets html
combineOfftargets html
createBarcodeFasta html
getPeaks html
getUniqueCleavageEvents html
getUsedBarcodes html
mergePlusMinusPeaks html
offTargetAnalysisOfPeakRegions html
peaks.gr html
uniqueCleavageEvents html
** building package indices
** installing vignettes
** testing if installed package can be loaded from temporary location
** testing if installed package can be loaded from final location
** testing if installed package keeps a record of temporary installation path
install for x64
* installing *source* package 'GUIDEseq' ...
** testing if installed package can be loaded
* MD5 sums
packaged installation of 'GUIDEseq' as GUIDEseq_1.20.0.zip
* DONE (GUIDEseq)