| Back to Multiple platform build/check report for BioC 3.12 | 
  | 
This page was generated on 2021-05-06 12:35:07 -0400 (Thu, 06 May 2021).
| 
To the developers/maintainers of the GEOquery package: Please make sure to use the following settings in order to reproduce any error or warning you see on this page.  | 
| Package 729/1974 | Hostname | OS / Arch | INSTALL | BUILD | CHECK | BUILD BIN | ||||||||
| GEOquery 2.58.0  (landing page) Sean Davis 
  | malbec1 | Linux (Ubuntu 18.04.5 LTS) / x86_64 | OK | OK | OK | |||||||||
| tokay1 | Windows Server 2012 R2 Standard / x64 | OK | OK | OK | OK | |||||||||
| merida1 | macOS 10.14.6 Mojave / x86_64 | OK | OK | OK | OK | |||||||||
| Package: GEOquery | 
| Version: 2.58.0 | 
| Command: rm -rf GEOquery.buildbin-libdir && mkdir GEOquery.buildbin-libdir && /Users/biocbuild/BBS/utils/build-universal.sh GEOquery_2.58.0.tar.gz /Library/Frameworks/R.framework/Versions/Current/Resources/bin/R GEOquery.buildbin-libdir | 
| StartedAt: 2021-05-06 08:46:09 -0400 (Thu, 06 May 2021) | 
| EndedAt: 2021-05-06 08:46:56 -0400 (Thu, 06 May 2021) | 
| EllapsedTime: 47.2 seconds | 
| RetCode: 0 | 
| Status: OK | 
| PackageFile: GEOquery_2.58.0.tgz | 
| PackageFileSize: 13.26 MiB | 
############################################################################## ############################################################################## ### ### Running command: ### ### rm -rf GEOquery.buildbin-libdir && mkdir GEOquery.buildbin-libdir && /Users/biocbuild/BBS/utils/build-universal.sh GEOquery_2.58.0.tar.gz /Library/Frameworks/R.framework/Versions/Current/Resources/bin/R GEOquery.buildbin-libdir ### ############################################################################## ############################################################################## >>>>>>> >>>>>>> INSTALLATION WITH 'R CMD INSTALL --preclean --no-multiarch --library=GEOquery.buildbin-libdir GEOquery_2.58.0.tar.gz' >>>>>>> * installing *source* package ‘GEOquery’ ... ** using staged installation ** R ** inst ** byte-compile and prepare package for lazy loading ** help *** installing help indices ** building package indices ** installing vignettes ** testing if installed package can be loaded from temporary location ** testing if installed package can be loaded from final location ** testing if installed package keeps a record of temporary installation path * DONE (GEOquery)