| Back to Multiple platform build/check report for BioC 3.12 | 
  | 
This page was generated on 2021-05-06 12:35:03 -0400 (Thu, 06 May 2021).
| 
To the developers/maintainers of the GDCRNATools package: Please make sure to use the following settings in order to reproduce any error or warning you see on this page.  | 
| Package 674/1974 | Hostname | OS / Arch | INSTALL | BUILD | CHECK | BUILD BIN | ||||||||
| GDCRNATools 1.10.1  (landing page) Ruidong Li 
  | malbec1 | Linux (Ubuntu 18.04.5 LTS) / x86_64 | OK | OK | OK | |||||||||
| tokay1 | Windows Server 2012 R2 Standard / x64 | OK | OK | OK | OK | |||||||||
| merida1 | macOS 10.14.6 Mojave / x86_64 | OK | OK | OK | OK | |||||||||
| Package: GDCRNATools | 
| Version: 1.10.1 | 
| Command: rm -rf GDCRNATools.buildbin-libdir && mkdir GDCRNATools.buildbin-libdir && /Users/biocbuild/BBS/utils/build-universal.sh GDCRNATools_1.10.1.tar.gz /Library/Frameworks/R.framework/Versions/Current/Resources/bin/R GDCRNATools.buildbin-libdir | 
| StartedAt: 2021-05-06 08:41:43 -0400 (Thu, 06 May 2021) | 
| EndedAt: 2021-05-06 08:43:49 -0400 (Thu, 06 May 2021) | 
| EllapsedTime: 125.6 seconds | 
| RetCode: 0 | 
| Status: OK | 
| PackageFile: GDCRNATools_1.10.1.tgz | 
| PackageFileSize: 4.938 MiB | 
############################################################################## ############################################################################## ### ### Running command: ### ### rm -rf GDCRNATools.buildbin-libdir && mkdir GDCRNATools.buildbin-libdir && /Users/biocbuild/BBS/utils/build-universal.sh GDCRNATools_1.10.1.tar.gz /Library/Frameworks/R.framework/Versions/Current/Resources/bin/R GDCRNATools.buildbin-libdir ### ############################################################################## ############################################################################## >>>>>>> >>>>>>> INSTALLATION WITH 'R CMD INSTALL --preclean --no-multiarch --library=GDCRNATools.buildbin-libdir GDCRNATools_1.10.1.tar.gz' >>>>>>> * installing *source* package ‘GDCRNATools’ ... ** using staged installation ** R ** data ** inst ** byte-compile and prepare package for lazy loading ** help *** installing help indices ** building package indices ** installing vignettes ** testing if installed package can be loaded from temporary location ** testing if installed package can be loaded from final location ** testing if installed package keeps a record of temporary installation path * DONE (GDCRNATools)