| Back to Multiple platform build/check report for BioC 3.12 |
|
This page was generated on 2021-05-06 12:31:22 -0400 (Thu, 06 May 2021).
|
To the developers/maintainers of the GA4GHclient package: Please make sure to use the following settings in order to reproduce any error or warning you see on this page. |
| Package 656/1974 | Hostname | OS / Arch | INSTALL | BUILD | CHECK | BUILD BIN | ||||||||
| GA4GHclient 1.14.0 (landing page) Welliton Souza
| malbec1 | Linux (Ubuntu 18.04.5 LTS) / x86_64 | OK | OK | OK | |||||||||
| tokay1 | Windows Server 2012 R2 Standard / x64 | OK | OK | OK | OK | |||||||||
| merida1 | macOS 10.14.6 Mojave / x86_64 | OK | OK | OK | OK | |||||||||
| Package: GA4GHclient |
| Version: 1.14.0 |
| Command: rm -rf GA4GHclient.buildbin-libdir && mkdir GA4GHclient.buildbin-libdir && C:\Users\biocbuild\bbs-3.12-bioc\R\bin\R.exe CMD INSTALL --merge-multiarch --build --library=GA4GHclient.buildbin-libdir GA4GHclient_1.14.0.tar.gz |
| StartedAt: 2021-05-06 09:07:04 -0400 (Thu, 06 May 2021) |
| EndedAt: 2021-05-06 09:08:24 -0400 (Thu, 06 May 2021) |
| EllapsedTime: 79.2 seconds |
| RetCode: 0 |
| Status: OK |
| PackageFile: GA4GHclient_1.14.0.zip |
| PackageFileSize: 852.9 KiB |
##############################################################################
##############################################################################
###
### Running command:
###
### rm -rf GA4GHclient.buildbin-libdir && mkdir GA4GHclient.buildbin-libdir && C:\Users\biocbuild\bbs-3.12-bioc\R\bin\R.exe CMD INSTALL --merge-multiarch --build --library=GA4GHclient.buildbin-libdir GA4GHclient_1.14.0.tar.gz
###
##############################################################################
##############################################################################
install for i386
* installing *source* package 'GA4GHclient' ...
** using staged installation
** R
** inst
** byte-compile and prepare package for lazy loading
No methods found in package 'BiocGenerics' for request: 'lengths' when loading 'GA4GHclient'
** help
*** installing help indices
converting help for package 'GA4GHclient'
finding HTML links ... done
GA4GHclient-package html
HGVSnames html
getBiosample html
finding level-2 HTML links ... done
getCallSet html
getDataset html
getExpressionLevel html
getFeature html
getFeatureSet html
getIndividual html
getReadGroupSet html
getReference html
getReferenceSet html
getRnaQuantification html
getRnaQuantificationSet html
getVariant html
getVariantAnnotationSet html
getVariantSet html
listReferenceBases html
makeVCFFromGA4GHResponse html
makeVCFHeaderFromGA4GHResponse html
searchBiosamples html
searchCallSets html
searchDatasets html
searchExpressionLevels html
searchFeatureSets html
searchFeatures html
searchIndividuals html
searchPhenotypeAssociationSets html
searchPhenotypeAssociations html
searchReadGroupSets html
searchReads html
searchReferenceSets html
searchReferences html
searchRnaQuantificationSets html
searchRnaQuantifications html
searchVariantAnnotationSets html
searchVariantAnnotations html
searchVariantSets html
searchVariants html
searchVariantsByGRanges html
** building package indices
** installing vignettes
** testing if installed package can be loaded from temporary location
No methods found in package 'BiocGenerics' for request: 'lengths' when loading 'GA4GHclient'
** testing if installed package can be loaded from final location
No methods found in package 'BiocGenerics' for request: 'lengths' when loading 'GA4GHclient'
** testing if installed package keeps a record of temporary installation path
install for x64
* installing *source* package 'GA4GHclient' ...
** testing if installed package can be loaded
No methods found in package 'BiocGenerics' for request: 'lengths' when loading 'GA4GHclient'
* MD5 sums
packaged installation of 'GA4GHclient' as GA4GHclient_1.14.0.zip
* DONE (GA4GHclient)