| Back to Multiple platform build/check report for BioC 3.12 | 
 | 
This page was generated on 2021-05-06 12:34:58 -0400 (Thu, 06 May 2021).
| To the developers/maintainers of the FindMyFriends package: Please make sure to use the following settings in order to reproduce any error or warning you see on this page. | 
| Package 604/1974 | Hostname | OS / Arch | INSTALL | BUILD | CHECK | BUILD BIN | ||||||||
| FindMyFriends 1.20.0  (landing page) Thomas Lin Pedersen 
 | malbec1 | Linux (Ubuntu 18.04.5 LTS) / x86_64 | OK | OK | WARNINGS |  | ||||||||
| tokay1 | Windows Server 2012 R2 Standard / x64 | OK | ERROR | skipped | skipped | |||||||||
| merida1 | macOS 10.14.6 Mojave / x86_64 | OK | OK | WARNINGS | OK |  | ||||||||
| Package: FindMyFriends | 
| Version: 1.20.0 | 
| Command: /Library/Frameworks/R.framework/Versions/Current/Resources/bin/R CMD build --keep-empty-dirs --no-resave-data FindMyFriends | 
| StartedAt: 2021-05-05 19:27:22 -0400 (Wed, 05 May 2021) | 
| EndedAt: 2021-05-05 19:32:38 -0400 (Wed, 05 May 2021) | 
| EllapsedTime: 316.3 seconds | 
| RetCode: 0 | 
| Status: OK | 
| PackageFile: FindMyFriends_1.20.0.tar.gz | 
| PackageFileSize: 2.384 MiB | 
############################################################################## ############################################################################## ### ### Running command: ### ### /Library/Frameworks/R.framework/Versions/Current/Resources/bin/R CMD build --keep-empty-dirs --no-resave-data FindMyFriends ### ############################################################################## ############################################################################## * checking for file ‘FindMyFriends/DESCRIPTION’ ... OK * preparing ‘FindMyFriends’: * checking DESCRIPTION meta-information ... OK * cleaning src * installing the package to build vignettes * creating vignettes ... OK * cleaning src * checking for LF line-endings in source and make files and shell scripts * checking for empty or unneeded directories * building ‘FindMyFriends_1.20.0.tar.gz’