| Back to Multiple platform build/check report for BioC 3.12 | 
 | 
This page was generated on 2021-05-06 12:31:04 -0400 (Thu, 06 May 2021).
| To the developers/maintainers of the ExperimentSubset package: Please make sure to use the following settings in order to reproduce any error or warning you see on this page. | 
| Package 580/1974 | Hostname | OS / Arch | INSTALL | BUILD | CHECK | BUILD BIN | ||||||||
| ExperimentSubset 1.0.0  (landing page) Irzam Sarfraz 
 | malbec1 | Linux (Ubuntu 18.04.5 LTS) / x86_64 | OK | OK | OK |  | ||||||||
| tokay1 | Windows Server 2012 R2 Standard / x64 | OK | OK | OK | OK |  | ||||||||
| merida1 | macOS 10.14.6 Mojave / x86_64 | OK | OK | OK | OK |  | ||||||||
| Package: ExperimentSubset | 
| Version: 1.0.0 | 
| Command: rm -rf ExperimentSubset.buildbin-libdir && mkdir ExperimentSubset.buildbin-libdir && C:\Users\biocbuild\bbs-3.12-bioc\R\bin\R.exe CMD INSTALL --merge-multiarch --build --library=ExperimentSubset.buildbin-libdir ExperimentSubset_1.0.0.tar.gz | 
| StartedAt: 2021-05-06 09:02:31 -0400 (Thu, 06 May 2021) | 
| EndedAt: 2021-05-06 09:03:07 -0400 (Thu, 06 May 2021) | 
| EllapsedTime: 35.3 seconds | 
| RetCode: 0 | 
| Status: OK | 
| PackageFile: ExperimentSubset_1.0.0.zip | 
| PackageFileSize: 646.6 KiB | 
##############################################################################
##############################################################################
###
### Running command:
###
###   rm -rf ExperimentSubset.buildbin-libdir && mkdir ExperimentSubset.buildbin-libdir && C:\Users\biocbuild\bbs-3.12-bioc\R\bin\R.exe CMD INSTALL --merge-multiarch --build --library=ExperimentSubset.buildbin-libdir ExperimentSubset_1.0.0.tar.gz
###
##############################################################################
##############################################################################
install for i386
* installing *source* package 'ExperimentSubset' ...
** using staged installation
** R
** inst
** byte-compile and prepare package for lazy loading
Creating a new generic function for 'rownames' in package 'ExperimentSubset'
Creating a new generic function for 'rownames<-' in package 'ExperimentSubset'
Creating a new generic function for 'colnames' in package 'ExperimentSubset'
Creating a new generic function for 'colnames<-' in package 'ExperimentSubset'
** help
*** installing help indices
  converting help for package 'ExperimentSubset'
    finding HTML links ... done
    AssaySubset-class                       html  
    AssaySubset                             html  
    ExperimentSubset-class                  html  
    ExperimentSubset                        html  
    altExp-set                              html  
    altExp                                  html  
    altExpNames-set                         html  
    altExpNames                             html  
    altExps-set                             html  
    altExps                                 html  
    assay-ExperimentSubset-character-method
                                            html  
    assay-set-ExperimentSubset-character-method
                                            html  
    colData-ExperimentSubset-method         html  
    colData-set-ExperimentSubset-DataFrame-method
                                            html  
    colnames-set                            html  
    colnames                                html  
    createSubset                            html  
    dim-ExperimentSubset-method             html  
    metadata-set-ANY-method                 html  
    metadata-set                            html  
    metadata                                html  
    reducedDim-set-ANY-method               html  
    reducedDim-set                          html  
    reducedDim                              html  
    reducedDimNames-set                     html  
    reducedDimNames                         html  
    reducedDims-set-ANY-method              html  
    reducedDims-set                         html  
    reducedDims                             html  
    rowData-ExperimentSubset-method         html  
    rowData-set-ExperimentSubset-method     html  
    rownames-set                            html  
    rownames                                html  
    show                                    html  
    storeSubset                             html  
    subsetAssayCount                        html  
    subsetAssayNames                        html  
    subsetColData                           html  
    subsetCount                             html  
    subsetDim                               html  
    subsetNames                             html  
    subsetParent                            html  
    subsetRowData                           html  
    subsetSummary                           html  
** building package indices
** installing vignettes
** testing if installed package can be loaded from temporary location
** testing if installed package can be loaded from final location
** testing if installed package keeps a record of temporary installation path
install for x64
* installing *source* package 'ExperimentSubset' ...
** testing if installed package can be loaded
* MD5 sums
packaged installation of 'ExperimentSubset' as ExperimentSubset_1.0.0.zip
* DONE (ExperimentSubset)