| Back to Multiple platform build/check report for BioC 3.12 |
|
This page was generated on 2021-05-06 12:31:00 -0400 (Thu, 06 May 2021).
|
To the developers/maintainers of the EasyqpcR package: Please make sure to use the following settings in order to reproduce any error or warning you see on this page. |
| Package 520/1974 | Hostname | OS / Arch | INSTALL | BUILD | CHECK | BUILD BIN | ||||||||
| EasyqpcR 1.32.0 (landing page) Le Pape Sylvain
| malbec1 | Linux (Ubuntu 18.04.5 LTS) / x86_64 | ERROR | ERROR | skipped | |||||||||
| tokay1 | Windows Server 2012 R2 Standard / x64 | ERROR | ERROR | skipped | skipped | |||||||||
| merida1 | macOS 10.14.6 Mojave / x86_64 | ERROR | ERROR | skipped | skipped | |||||||||
| Package: EasyqpcR |
| Version: 1.32.0 |
| Command: chmod a+r EasyqpcR -R && C:\Users\biocbuild\bbs-3.12-bioc\R\bin\R.exe CMD build --keep-empty-dirs --no-resave-data EasyqpcR |
| StartedAt: 2021-05-05 20:41:35 -0400 (Wed, 05 May 2021) |
| EndedAt: 2021-05-05 20:41:40 -0400 (Wed, 05 May 2021) |
| EllapsedTime: 4.8 seconds |
| RetCode: 1 |
| Status: ERROR |
| PackageFile: EasyqpcR_1.32.0.tar.gz |
| PackageFileSize: 1.688 MiB |
##############################################################################
##############################################################################
###
### Running command:
###
### chmod a+r EasyqpcR -R && C:\Users\biocbuild\bbs-3.12-bioc\R\bin\R.exe CMD build --keep-empty-dirs --no-resave-data EasyqpcR
###
##############################################################################
##############################################################################
* checking for file 'EasyqpcR/DESCRIPTION' ... OK
* preparing 'EasyqpcR':
* checking DESCRIPTION meta-information ... OK
* installing the package to build vignettes
-----------------------------------
ERROR: dependency 'gWidgetsRGtk2' is not available for package 'EasyqpcR'
* removing 'C:/Users/biocbuild/bbs-3.12-bioc/tmpdir/RtmpEzmYCb/Rinst17ac17b0182c/EasyqpcR'
-----------------------------------
ERROR: package installation failed