| Back to Multiple platform build/check report for BioC 3.12 |
|
This page was generated on 2021-05-06 12:31:01 -0400 (Thu, 06 May 2021).
|
To the developers/maintainers of the EDDA package: Please make sure to use the following settings in order to reproduce any error or warning you see on this page. |
| Package 531/1974 | Hostname | OS / Arch | INSTALL | BUILD | CHECK | BUILD BIN | ||||||||
| EDDA 1.28.0 (landing page) Chia Kuan Hui Burton
| malbec1 | Linux (Ubuntu 18.04.5 LTS) / x86_64 | OK | OK | WARNINGS | |||||||||
| tokay1 | Windows Server 2012 R2 Standard / x64 | OK | OK | WARNINGS | OK | |||||||||
| merida1 | macOS 10.14.6 Mojave / x86_64 | OK | OK | WARNINGS | OK | |||||||||
| Package: EDDA |
| Version: 1.28.0 |
| Command: rm -rf EDDA.buildbin-libdir && mkdir EDDA.buildbin-libdir && C:\Users\biocbuild\bbs-3.12-bioc\R\bin\R.exe CMD INSTALL --merge-multiarch --build --library=EDDA.buildbin-libdir EDDA_1.28.0.tar.gz |
| StartedAt: 2021-05-06 08:58:44 -0400 (Thu, 06 May 2021) |
| EndedAt: 2021-05-06 08:59:32 -0400 (Thu, 06 May 2021) |
| EllapsedTime: 48.2 seconds |
| RetCode: 0 |
| Status: OK |
| PackageFile: EDDA_1.28.0.zip |
| PackageFileSize: 2.715 MiB |
##############################################################################
##############################################################################
###
### Running command:
###
### rm -rf EDDA.buildbin-libdir && mkdir EDDA.buildbin-libdir && C:\Users\biocbuild\bbs-3.12-bioc\R\bin\R.exe CMD INSTALL --merge-multiarch --build --library=EDDA.buildbin-libdir EDDA_1.28.0.tar.gz
###
##############################################################################
##############################################################################
install for i386
* installing *source* package 'EDDA' ...
** using staged installation
** libs
"C:/rtools40/mingw32/bin/"g++ -std=gnu++11 -I"C:/Users/BIOCBU~1/BBS-3~1.12-/R/include" -DNDEBUG -I'C:/Users/biocbuild/bbs-3.12-bioc/R/library/Rcpp/include' -I"C:/extsoft/include" -O2 -Wall -mfpmath=sse -msse2 -mstackrealign -c cuffdiff.cpp -o cuffdiff.o
C:/rtools40/mingw32/bin/g++ -std=gnu++11 -shared -s -static-libgcc -o EDDA.dll tmp.def cuffdiff.o -LC:/extsoft/lib/i386 -LC:/extsoft/lib -LC:/Users/BIOCBU~1/BBS-3~1.12-/R/bin/i386 -lR
installing to C:/Users/biocbuild/bbs-3.12-bioc/meat/EDDA.buildbin-libdir/00LOCK-EDDA/00new/EDDA/libs/i386
** R
** data
** inst
** byte-compile and prepare package for lazy loading
Warning message:
Package 'DESeq' is deprecated and will be removed from Bioconductor
version 3.13. Please use DESeq2
No methods found in package 'baySeq' for request: 'rbind' when loading 'EDDA'
Note: possible error in 'exactTestByDeviance(y1, ': unused argument (big.count = big.count)
Note: possible error in 'exactTestBySmallP(y1, ': unused argument (big.count = big.count)
** help
*** installing help indices
converting help for package 'EDDA'
finding HTML links ... done
BP html
EDDA-package html
HBR html
SingleCell html
Wu html
computeAUC html
generateData html
plotPRC html
plotROC html
testDATs html
** building package indices
** installing vignettes
** testing if installed package can be loaded from temporary location
Warning: Package 'DESeq' is deprecated and will be removed from Bioconductor
version 3.13. Please use DESeq2
No methods found in package 'baySeq' for request: 'rbind' when loading 'EDDA'
** testing if installed package can be loaded from final location
Warning: Package 'DESeq' is deprecated and will be removed from Bioconductor
version 3.13. Please use DESeq2
No methods found in package 'baySeq' for request: 'rbind' when loading 'EDDA'
** testing if installed package keeps a record of temporary installation path
install for x64
* installing *source* package 'EDDA' ...
** libs
"C:/rtools40/mingw64/bin/"g++ -std=gnu++11 -I"C:/Users/BIOCBU~1/BBS-3~1.12-/R/include" -DNDEBUG -I'C:/Users/biocbuild/bbs-3.12-bioc/R/library/Rcpp/include' -I"C:/extsoft/include" -O2 -Wall -mfpmath=sse -msse2 -mstackrealign -c cuffdiff.cpp -o cuffdiff.o
C:/rtools40/mingw64/bin/g++ -std=gnu++11 -shared -s -static-libgcc -o EDDA.dll tmp.def cuffdiff.o -LC:/extsoft/lib/x64 -LC:/extsoft/lib -LC:/Users/BIOCBU~1/BBS-3~1.12-/R/bin/x64 -lR
installing to C:/Users/biocbuild/bbs-3.12-bioc/meat/EDDA.buildbin-libdir/EDDA/libs/x64
** testing if installed package can be loaded
Warning: Package 'DESeq' is deprecated and will be removed from Bioconductor
version 3.13. Please use DESeq2
No methods found in package 'baySeq' for request: 'rbind' when loading 'EDDA'
* MD5 sums
packaged installation of 'EDDA' as EDDA_1.28.0.zip
* DONE (EDDA)